{"text_format":"3","workbook":"xlsx","n_sheets":13,"sheets":["Data Entry","Database","Frequency","Pellet 1","Pellet 2","Pellet 3","Pellet 4","Pellet 5","Pellet 6","Pellet 7","Pellet 8","Pellet 9","Pellet 10"],"not_rendered":{"charts":10,"images":39,"macros":1,"defined_names":8},"read":"whole","date_system":"1900"}

{"sheet":"Data Entry","index":0,"n_rows":131,"n_cols":60,"rows_kept":131,"merged":[[57,0,58,0],[57,6,58,6],[57,12,58,12],[57,18,58,18],[57,24,58,24],[57,30,58,30],[57,36,58,36],[57,42,58,42],[57,48,58,48],[57,54,58,54]]}
["Pellet 1",{"$nulls":5},"Pellet 2",{"$nulls":5},"Pellet 3",{"$nulls":5},"Pellet 4",{"$nulls":5},"Pellet 5",{"$nulls":5},"Pellet 6",{"$nulls":5},"Pellet 7",{"$nulls":5},"Pellet 8",{"$nulls":5},"Pellet 9",{"$nulls":5},"Pellet 10"]
["Depth:",1692.58,{"$nulls":4},"Depth:",1710.08,{"$nulls":4},"Depth:",{"v":1724.5,"d":"1724.50"},{"$nulls":4},"Depth:",1738.45,{"$nulls":4},"Depth:",1752.53,{"$nulls":4},"Depth:",1765.07,{"$nulls":4},"Depth:",1779.04,{"$nulls":4},"Depth:",1791.31,{"$nulls":4},"Depth:",1805.38,{"$nulls":4},"Depth:",{"v":1820,"d":"1820.00"}]
["Well:","Little Bear N-9",{"$nulls":4},"Well:","Little Bear N-9",{"$nulls":4},"Well:","Little Bear N-9",{"$nulls":4},"Well:","Little Bear N-9",{"$nulls":4},"Well:","Little Bear N-9",{"$nulls":4},"Well:","Little Bear N-9",{"$nulls":4},"Well:","Little Bear N-9",{"$nulls":4},"Well:","Little Bear N-9",{"$nulls":4},"Well:","Little Bear N-9",{"$nulls":4},"Well:","Little Bear N-9"]
["Pellet #","373-12",{"$nulls":4},"Pellet #","374-12",{"$nulls":4},"Pellet #","375-12",{"$nulls":4},"Pellet #","376-12",{"$nulls":4},"Pellet #","377-12",{"$nulls":4},"Pellet #","378-12",{"$nulls":4},"Pellet #","379-12",{"$nulls":4},"Pellet #","380-12",{"$nulls":4},"Pellet #","381-12",{"$nulls":4},"Pellet #","382-12"]
[null,"Count:",{"$f":"COUNT(C7:C56)","v":3},{"$f":"COUNT(D7:D56)","v":0},{"$f":"COUNT(E7:E56)","v":0},{"$f":"COUNT(F7:F56)","v":0},null,"Count:",{"$f":"COUNT(I7:I56)","v":4},{"$f":"COUNT(J7:J56)","v":0},{"$f":"COUNT(K7:K56)","v":0},{"$f":"COUNT(L7:L56)","v":0},null,"Count:",{"$f":"COUNT(O7:O56)","v":11},{"$f":"COUNT(P7:P56)","v":0},{"$f":"COUNT(Q7:Q56)","v":0},{"$f":"COUNT(R7:R56)","v":0},null,"Count:",{"$f":"COUNT(U7:U56)","v":4},{"$f":"COUNT(V7:V56)","v":0},{"$f":"COUNT(W7:W56)","v":0},{"$f":"COUNT(X7:X56)","v":0},null,"Count:",{"$f":"COUNT(AA7:AA56)","v":2},{"$f":"COUNT(AB7:AB56)","v":0},{"$f":"COUNT(AC7:AC56)","v":0},{"$f":"COUNT(AD7:AD56)","v":0},null,"Count:",{"$f":"COUNT(AG7:AG56)","v":7},{"$f":"COUNT(AH7:AH56)","v":1},{"$f":"COUNT(AI7:AI56)","v":0},{"$f":"COUNT(AJ7:AJ56)","v":0},null,"Count:",{"$f":"COUNT(AM7:AM56)","v":2},{"$f":"COUNT(AN7:AN56)","v":4},{"$f":"COUNT(AO7:AO56)","v":0},{"$f":"COUNT(AP7:AP56)","v":0},null,"Count:",{"$f":"COUNT(AS7:AS56)","v":2},{"$f":"COUNT(AT7:AT56)","v":0},{"$f":"COUNT(AU7:AU56)","v":0},{"$f":"COUNT(AV7:AV56)","v":0},null,"Count:",{"$f":"COUNT(AY7:AY56)","v":10},{"$f":"COUNT(AZ7:AZ56)","v":2},{"$f":"COUNT(BA7:BA56)","v":0},{"$f":"COUNT(BB7:BB56)","v":0},null,"Count:",{"$f":"COUNT(BE7:BE56)","v":6},{"$f":"COUNT(BF7:BF56)","v":3},{"$f":"COUNT(BG7:BG56)","v":0},{"$f":"COUNT(BH7:BH56)","v":0}]
[null,"OM Type:","Kgn",{"$nulls":4},"OM Type:","Kgn",{"$nulls":4},"OM Type:","Grnl Kgn",{"$nulls":4},"OM Type:","Bit",{"$nulls":4},"OM Type:","Bit",{"$nulls":4},"OM Type:","Grnl Kgn","Gr",{"$nulls":3},"OM Type:","Grnl Kgn","Kgn",{"$nulls":3},"OM Type:","Grnl Kgn",{"$nulls":4},"OM Type:","Kgn","Gr",{"$nulls":3},"OM Type:","Kgn","Gr"]
[null,null,1.067,{"$nulls":5},1.282,{"$nulls":5},0.8485,{"$nulls":5},1.089,{"$nulls":5},0.8175,{"$nulls":5},0.7896,1.068,{"$nulls":4},0.6156,1.168,{"$nulls":4},0.3927,{"$nulls":5},0.9646,1.077,{"$nulls":4},1.271,1.055]
[null,null,1.132,{"$nulls":5},1.388,{"$nulls":5},0.9688,{"$nulls":5},1.187,{"$nulls":5},0.763,{"$nulls":5},0.7594,{"$nulls":5},0.6443,1.203,{"$nulls":4},0.3936,{"$nulls":5},1.12,1.039,{"$nulls":4},1.148,1.295]
[null,null,1.078,{"$nulls":5},1.12,{"$nulls":5},0.7352,{"$nulls":5},0.8967,{"$nulls":11},0.8449,{"$nulls":6},1.378,{"$nulls":10},1.192,{"$nulls":5},1.206,1.044]
[{"$nulls":8},1.104,{"$nulls":5},0.7361,{"$nulls":5},0.9144,{"$nulls":11},0.7753,{"$nulls":6},1.412,{"$nulls":10},1.122,{"$nulls":5},1.185]
[{"$nulls":14},0.6762,{"$nulls":17},0.8123,{"$nulls":17},1.239,{"$nulls":5},1.352]
[{"$nulls":14},0.7712,{"$nulls":17},0.7506,{"$nulls":17},1.141,{"$nulls":5},1.079]
[{"$nulls":14},0.8696,{"$nulls":17},0.6825,{"$nulls":17},0.9189]
[{"$nulls":14},0.7373,{"$nulls":35},1.052]
[{"$nulls":14},0.7171,{"$nulls":35},0.9557]
[{"$nulls":14},0.7047,{"$nulls":35},0.9334]
[{"$nulls":14},0.6594]
{"$rows_empty":40}
["Statistics Individual:","Mean:",{"$f":"AVERAGE(C7:C56)","v":{"v":1.0923333333333334,"d":"1.09"}},{"$f":"AVERAGE(D7:D56)","v":{"$error":"#DIV/0!"}},{"$f":"AVERAGE(E7:E56)","v":{"$error":"#DIV/0!"}},{"$f":"AVERAGE(F7:F56)","v":{"$error":"#DIV/0!"}},"Statistics Individual:","Mean:",{"$f":"AVERAGE(I7:I56)","v":{"v":1.2235,"d":"1.22"}},{"$f":"AVERAGE(J7:J56)","v":{"$error":"#DIV/0!"}},{"$f":"AVERAGE(K7:K56)","v":{"$error":"#DIV/0!"}},{"$f":"AVERAGE(L7:L56)","v":{"$error":"#DIV/0!"}},"Statistics Individual:","Mean:",{"$f":"AVERAGE(O7:O56)","v":{"v":0.7658272727272728,"d":"0.77"}},{"$f":"AVERAGE(P7:P56)","v":{"$error":"#DIV/0!"}},{"$f":"AVERAGE(Q7:Q56)","v":{"$error":"#DIV/0!"}},{"$f":"AVERAGE(R7:R56)","v":{"$error":"#DIV/0!"}},"Statistics Individual:","Mean:",{"$f":"AVERAGE(U7:U56)","v":{"v":1.0217749999999999,"d":"1.02"}},{"$f":"AVERAGE(V7:V56)","v":{"$error":"#DIV/0!"}},{"$f":"AVERAGE(W7:W56)","v":{"$error":"#DIV/0!"}},{"$f":"AVERAGE(X7:X56)","v":{"$error":"#DIV/0!"}},"Statistics Individual:","Mean:",{"$f":"AVERAGE(AA7:AA56)","v":{"v":0.79025,"d":"0.79"}},{"$f":"AVERAGE(AB7:AB56)","v":{"$error":"#DIV/0!"}},{"$f":"AVERAGE(AC7:AC56)","v":{"$error":"#DIV/0!"}},{"$f":"AVERAGE(AD7:AD56)","v":{"$error":"#DIV/0!"}},"Statistics Individual:","Mean:",{"$f":"AVERAGE(AG7:AG56)","v":{"v":0.7735142857142857,"d":"0.77"}},{"$f":"AVERAGE(AH7:AH56)","v":{"v":1.068,"d":"1.07"}},{"$f":"AVERAGE(AI7:AI56)","v":{"$error":"#DIV/0!"}},{"$f":"AVERAGE(AJ7:AJ56)","v":{"$error":"#DIV/0!"}},"Statistics Individual:","Mean:",{"$f":"AVERAGE(AM7:AM56)","v":{"v":0.62995,"d":"0.63"}},{"$f":"AVERAGE(AN7:AN56)","v":{"v":1.29025,"d":"1.29"}},{"$f":"AVERAGE(AO7:AO56)","v":{"$error":"#DIV/0!"}},{"$f":"AVERAGE(AP7:AP56)","v":{"$error":"#DIV/0!"}},"Statistics Individual:","Mean:",{"$f":"AVERAGE(AS7:AS56)","v":{"v":0.39315,"d":"0.39"}},{"$f":"AVERAGE(AT7:AT56)","v":{"$error":"#DIV/0!"}},{"$f":"AVERAGE(AU7:AU56)","v":{"$error":"#DIV/0!"}},{"$f":"AVERAGE(AV7:AV56)","v":{"$error":"#DIV/0!"}},"Statistics Individual:","Mean:",{"$f":"AVERAGE(AY7:AY56)","v":{"v":1.06386,"d":"1.06"}},{"$f":"AVERAGE(AZ7:AZ56)","v":{"v":1.0579999999999998,"d":"1.06"}},{"$f":"AVERAGE(BA7:BA56)","v":{"$error":"#DIV/0!"}},{"$f":"AVERAGE(BB7:BB56)","v":{"$error":"#DIV/0!"}},"Statistics Individual:","Mean:",{"$f":"AVERAGE(BE7:BE56)","v":{"v":1.2068333333333332,"d":"1.21"}},{"$f":"AVERAGE(BF7:BF56)","v":{"v":1.1313333333333333,"d":"1.13"}},{"$f":"AVERAGE(BG7:BG56)","v":{"$error":"#DIV/0!"}},{"$f":"AVERAGE(BH7:BH56)","v":{"$error":"#DIV/0!"}}]
[null,"Max:",{"$f":"MAX(C7:C56)","v":{"v":1.132,"d":"1.13"}},{"$f":"MAX(D7:D56)","v":{"v":0,"d":"0.00"}},{"$f":"MAX(E7:E56)","v":{"v":0,"d":"0.00"}},{"$f":"MAX(F7:F56)","v":{"v":0,"d":"0.00"}},null,"Max:",{"$f":"MAX(I7:I56)","v":{"v":1.388,"d":"1.39"}},{"$f":"MAX(J7:J56)","v":{"v":0,"d":"0.00"}},{"$f":"MAX(K7:K56)","v":{"v":0,"d":"0.00"}},{"$f":"MAX(L7:L56)","v":{"v":0,"d":"0.00"}},null,"Max:",{"$f":"MAX(O7:O56)","v":{"v":0.9688,"d":"0.97"}},{"$f":"MAX(P7:P56)","v":{"v":0,"d":"0.00"}},{"$f":"MAX(Q7:Q56)","v":{"v":0,"d":"0.00"}},{"$f":"MAX(R7:R56)","v":{"v":0,"d":"0.00"}},null,"Max:",{"$f":"MAX(U7:U56)","v":{"v":1.187,"d":"1.19"}},{"$f":"MAX(V7:V56)","v":{"v":0,"d":"0.00"}},{"$f":"MAX(W7:W56)","v":{"v":0,"d":"0.00"}},{"$f":"MAX(X7:X56)","v":{"v":0,"d":"0.00"}},null,"Max:",{"$f":"MAX(AA7:AA56)","v":{"v":0.8175,"d":"0.82"}},{"$f":"MAX(AB7:AB56)","v":{"v":0,"d":"0.00"}},{"$f":"MAX(AC7:AC56)","v":{"v":0,"d":"0.00"}},{"$f":"MAX(AD7:AD56)","v":{"v":0,"d":"0.00"}},null,"Max:",{"$f":"MAX(AG7:AG56)","v":{"v":0.8449,"d":"0.84"}},{"$f":"MAX(AH7:AH56)","v":{"v":1.068,"d":"1.07"}},{"$f":"MAX(AI7:AI56)","v":{"v":0,"d":"0.00"}},{"$f":"MAX(AJ7:AJ56)","v":{"v":0,"d":"0.00"}},null,"Max:",{"$f":"MAX(AM7:AM56)","v":{"v":0.6443,"d":"0.64"}},{"$f":"MAX(AN7:AN56)","v":{"v":1.412,"d":"1.41"}},{"$f":"MAX(AO7:AO56)","v":{"v":0,"d":"0.00"}},{"$f":"MAX(AP7:AP56)","v":{"v":0,"d":"0.00"}},null,"Max:",{"$f":"MAX(AS7:AS56)","v":{"v":0.3936,"d":"0.39"}},{"$f":"MAX(AT7:AT56)","v":{"v":0,"d":"0.00"}},{"$f":"MAX(AU7:AU56)","v":{"v":0,"d":"0.00"}},{"$f":"MAX(AV7:AV56)","v":{"v":0,"d":"0.00"}},null,"Max:",{"$f":"MAX(AY7:AY56)","v":{"v":1.239,"d":"1.24"}},{"$f":"MAX(AZ7:AZ56)","v":{"v":1.077,"d":"1.08"}},{"$f":"MAX(BA7:BA56)","v":{"v":0,"d":"0.00"}},{"$f":"MAX(BB7:BB56)","v":{"v":0,"d":"0.00"}},null,"Max:",{"$f":"MAX(BE7:BE56)","v":{"v":1.352,"d":"1.35"}},{"$f":"MAX(BF7:BF56)","v":{"v":1.295,"d":"1.30"}},{"$f":"MAX(BG7:BG56)","v":{"v":0,"d":"0.00"}},{"$f":"MAX(BH7:BH56)","v":{"v":0,"d":"0.00"}}]
[null,"Min:",{"$f":"MIN(C7:C56)","v":{"v":1.067,"d":"1.07"}},{"$f":"MIN(D7:D56)","v":{"v":0,"d":"0.00"}},{"$f":"MIN(E7:E56)","v":{"v":0,"d":"0.00"}},{"$f":"MIN(F7:F56)","v":{"v":0,"d":"0.00"}},null,"Min:",{"$f":"MIN(I7:I56)","v":{"v":1.104,"d":"1.10"}},{"$f":"MIN(J7:J56)","v":{"v":0,"d":"0.00"}},{"$f":"MIN(K7:K56)","v":{"v":0,"d":"0.00"}},{"$f":"MIN(L7:L56)","v":{"v":0,"d":"0.00"}},null,"Min:",{"$f":"MIN(O7:O56)","v":{"v":0.6594,"d":"0.66"}},{"$f":"MIN(P7:P56)","v":{"v":0,"d":"0.00"}},{"$f":"MIN(Q7:Q56)","v":{"v":0,"d":"0.00"}},{"$f":"MIN(R7:R56)","v":{"v":0,"d":"0.00"}},null,"Min:",{"$f":"MIN(U7:U56)","v":{"v":0.8967,"d":"0.90"}},{"$f":"MIN(V7:V56)","v":{"v":0,"d":"0.00"}},{"$f":"MIN(W7:W56)","v":{"v":0,"d":"0.00"}},{"$f":"MIN(X7:X56)","v":{"v":0,"d":"0.00"}},null,"Min:",{"$f":"MIN(AA7:AA56)","v":{"v":0.763,"d":"0.76"}},{"$f":"MIN(AB7:AB56)","v":{"v":0,"d":"0.00"}},{"$f":"MIN(AC7:AC56)","v":{"v":0,"d":"0.00"}},{"$f":"MIN(AD7:AD56)","v":{"v":0,"d":"0.00"}},null,"Min:",{"$f":"MIN(AG7:AG56)","v":{"v":0.6825,"d":"0.68"}},{"$f":"MIN(AH7:AH56)","v":{"v":1.068,"d":"1.07"}},{"$f":"MIN(AI7:AI56)","v":{"v":0,"d":"0.00"}},{"$f":"MIN(AJ7:AJ56)","v":{"v":0,"d":"0.00"}},null,"Min:",{"$f":"MIN(AM7:AM56)","v":{"v":0.6156,"d":"0.62"}},{"$f":"MIN(AN7:AN56)","v":{"v":1.168,"d":"1.17"}},{"$f":"MIN(AO7:AO56)","v":{"v":0,"d":"0.00"}},{"$f":"MIN(AP7:AP56)","v":{"v":0,"d":"0.00"}},null,"Min:",{"$f":"MIN(AS7:AS56)","v":{"v":0.3927,"d":"0.39"}},{"$f":"MIN(AT7:AT56)","v":{"v":0,"d":"0.00"}},{"$f":"MIN(AU7:AU56)","v":{"v":0,"d":"0.00"}},{"$f":"MIN(AV7:AV56)","v":{"v":0,"d":"0.00"}},null,"Min:",{"$f":"MIN(AY7:AY56)","v":{"v":0.9189,"d":"0.92"}},{"$f":"MIN(AZ7:AZ56)","v":{"v":1.039,"d":"1.04"}},{"$f":"MIN(BA7:BA56)","v":{"v":0,"d":"0.00"}},{"$f":"MIN(BB7:BB56)","v":{"v":0,"d":"0.00"}},null,"Min:",{"$f":"MIN(BE7:BE56)","v":{"v":1.079,"d":"1.08"}},{"$f":"MIN(BF7:BF56)","v":{"v":1.044,"d":"1.04"}},{"$f":"MIN(BG7:BG56)","v":{"v":0,"d":"0.00"}},{"$f":"MIN(BH7:BH56)","v":{"v":0,"d":"0.00"}}]
[null,"Stdev:",{"$f":"STDEV(C7:C56)","v":{"v":0.034789845261704304,"d":"0.03"}},{"$f":"STDEV(D7:D56)","v":{"$error":"#DIV/0!"}},{"$f":"STDEV(E7:E56)","v":{"$error":"#DIV/0!"}},{"$f":"STDEV(F7:F56)","v":{"$error":"#DIV/0!"}},null,"Stdev:",{"$f":"STDEV(I7:I56)","v":{"v":0.1359840676942216,"d":"0.14"}},{"$f":"STDEV(J7:J56)","v":{"$error":"#DIV/0!"}},{"$f":"STDEV(K7:K56)","v":{"$error":"#DIV/0!"}},{"$f":"STDEV(L7:L56)","v":{"$error":"#DIV/0!"}},null,"Stdev:",{"$f":"STDEV(O7:O56)","v":{"v":0.09323979934458286,"d":"0.09"}},{"$f":"STDEV(P7:P56)","v":{"$error":"#DIV/0!"}},{"$f":"STDEV(Q7:Q56)","v":{"$error":"#DIV/0!"}},{"$f":"STDEV(R7:R56)","v":{"$error":"#DIV/0!"}},null,"Stdev:",{"$f":"STDEV(U7:U56)","v":{"v":0.14022796618364192,"d":"0.14"}},{"$f":"STDEV(V7:V56)","v":{"$error":"#DIV/0!"}},{"$f":"STDEV(W7:W56)","v":{"$error":"#DIV/0!"}},{"$f":"STDEV(X7:X56)","v":{"$error":"#DIV/0!"}},null,"Stdev:",{"$f":"STDEV(AA7:AA56)","v":{"v":0.038537319574666835,"d":"0.04"}},{"$f":"STDEV(AB7:AB56)","v":{"$error":"#DIV/0!"}},{"$f":"STDEV(AC7:AC56)","v":{"$error":"#DIV/0!"}},{"$f":"STDEV(AD7:AD56)","v":{"$error":"#DIV/0!"}},null,"Stdev:",{"$f":"STDEV(AG7:AG56)","v":{"v":0.05142967459134296,"d":"0.05"}},{"$f":"STDEV(AH7:AH56)","v":{"$error":"#DIV/0!"}},{"$f":"STDEV(AI7:AI56)","v":{"$error":"#DIV/0!"}},{"$f":"STDEV(AJ7:AJ56)","v":{"$error":"#DIV/0!"}},null,"Stdev:",{"$f":"STDEV(AM7:AM56)","v":{"v":0.020293964620053877,"d":"0.02"}},{"$f":"STDEV(AN7:AN56)","v":{"v":0.12258432471840212,"d":"0.12"}},{"$f":"STDEV(AO7:AO56)","v":{"$error":"#DIV/0!"}},{"$f":"STDEV(AP7:AP56)","v":{"$error":"#DIV/0!"}},null,"Stdev:",{"$f":"STDEV(AS7:AS56)","v":{"v":6.3639610306790123E-4,"d":"0.00"}},{"$f":"STDEV(AT7:AT56)","v":{"$error":"#DIV/0!"}},{"$f":"STDEV(AU7:AU56)","v":{"$error":"#DIV/0!"}},{"$f":"STDEV(AV7:AV56)","v":{"$error":"#DIV/0!"}},null,"Stdev:",{"$f":"STDEV(AY7:AY56)","v":{"v":0.11513346072179943,"d":"0.12"}},{"$f":"STDEV(AZ7:AZ56)","v":{"v":0.02687005768508883,"d":"0.03"}},{"$f":"STDEV(BA7:BA56)","v":{"$error":"#DIV/0!"}},{"$f":"STDEV(BB7:BB56)","v":{"$error":"#DIV/0!"}},null,"Stdev:",{"$f":"STDEV(BE7:BE56)","v":{"v":0.09536334026588347,"d":"0.10"}},{"$f":"STDEV(BF7:BF56)","v":{"v":0.1418461607987101,"d":"0.14"}},{"$f":"STDEV(BG7:BG56)","v":{"$error":"#DIV/0!"}},{"$f":"STDEV(BH7:BH56)","v":{"$error":"#DIV/0!"}}]
[]
[null,null,"VRo=1.09%",{"$nulls":5},"VRo=1.22%",{"$nulls":11},"VRo-eq=1.03%",{"$nulls":12},"VRo-eq=1.15%",{"$nulls":5},"VRo=1.29%",{"$nulls":11},"VRo-eq=1.13%",{"$nulls":4},"VRo=1.21%"]
{"$rows_empty":15}
["Sorted Combined Measurements "]
[]
["Depth:",{"$f":"B2","v":1692.58},{"$f":"H2","v":1710.08},{"$f":"N2","v":1724.5},{"$f":"T2","v":1738.45},{"$f":"Z2","v":1752.53},{"$f":"AF2","v":1765.07},{"$f":"AL2","v":1779.04},{"$f":"AR2","v":1791.31},{"$f":"AX2","v":1805.38},{"$f":"BD2","v":1820}]
[1,1.067,1.282,0.6762,0.8967,0.763,1.068,1.168,0.3927,0.9189,1.079]
[2,1.078,1.104,0.7352,0.9144,0.8175,null,1.203,0.3936,0.9334,1.148]
[3,1.132,1.12,0.7361,1.089,null,null,1.378,null,0.9557,1.185]
[4,null,1.388,0.7712,1.187,null,null,1.412,null,0.9646,1.206]
[5,null,null,0.8485,{"$nulls":5},1.052,1.271]
[6,null,null,0.8696,{"$nulls":5},1.12,1.352]
[7,null,null,0.9688,{"$nulls":5},1.122]
[8,{"$nulls":8},1.141]
[9,{"$nulls":8},1.192]
[10,{"$nulls":8},1.239]
[11]
[12]
[13]
[14]
[15]
[16]
[17]
[18]
[19]
[20]
[21]
[22]
[23]
[24]
[25]
[26]
[27]
[28]
[29]
[30]
[31]
[32]
[33]
[34]
[35]
[36]
[37]
[38]
[39]
[40]
[41]
[42]
[43]
[44]
[45]
[46]
[47]
[48]
[49]
[50]

{"sheet":"Database","index":1,"n_rows":17,"n_cols":57,"rows_kept":17}
[null,"Company:","Husky Energy"]
[null,"Analyst:","Thomas Gentzis"]
[null,"Vitrinite Reflectance Measurements, Histogram and Images"]
[]
[]
[{"$nulls":7},1,2,3,4,5,6,7,8,9,10,11,12,13,14,15,16,17,18,19,20,21,22,23,24,25,26,27,28,29,30,31,32,33,34,35,36,37,38,39,40,41,42,43,44,45,46,47,48,49,50]
["Plate #","Location","Formation","Depth (m)","Well","Count",null,"VRo Measurements"]
["Plate 1 A-D  ","Canada","Canol",1692.58,"Little Bear N-9",{"$f":"COUNT(H8:HC8)","v":50},{"$f":"AVERAGE(H8:J8)","v":1.0923333333333334},{"$f":"TRANSPOSE('Data Entry'!B82:B131)","v":1.067},1.078,1.132,0,0,0,0,0,0,0,0,0,0,0,0,0,0,0,0,0,0,0,0,0,0,0,0,0,0,0,0,0,0,0,0,0,0,0,0,0,0,0,0,0,0,0,0,0,0,0]
["Plate 2 A-D  ","Canada","Canol",1710.08,"Little Bear N-9",{"$f":"COUNT(H9:BI9)","v":50},{"$f":"AVERAGE(H9:K9)","v":1.2235},{"$f":"TRANSPOSE('Data Entry'!C82:C131)","v":1.282},1.104,1.12,1.388,0,0,0,0,0,0,0,0,0,0,0,0,0,0,0,0,0,0,0,0,0,0,0,0,0,0,0,0,0,0,0,0,0,0,0,0,0,0,0,0,0,0,0,0,0,0]
["Plate 3 A-D  ","Canada","Canol",{"v":1724.5,"d":"1724.50"},"Little Bear N-9",{"$f":"COUNT(H10:BI10)","v":50},{"$f":"AVERAGE(H10:N10)","v":0.8008},{"$f":"TRANSPOSE('Data Entry'!D82:D131)","v":0.6762},0.7352,0.7361,0.7712,0.8485,0.8696,0.9688,0,0,0,0,0,0,0,0,0,0,0,0,0,0,0,0,0,0,0,0,0,0,0,0,0,0,0,0,0,0,0,0,0,0,0,0,0,0,0,0,0,0,0]
["Plate 4 A-D  ","Canada","Canol",1738.45,"Little Bear N-9",50,{"$f":"AVERAGE(H11:K11)","v":1.021775},{"$f":"TRANSPOSE('Data Entry'!E82:E131)","v":0.8967},0.9144,1.089,1.187,0,0,0,0,0,0,0,0,0,0,0,0,0,0,0,0,0,0,0,0,0,0,0,0,0,0,0,0,0,0,0,0,0,0,0,0,0,0,0,0,0,0,0,0,0,0]
["Plate 5 A-D  ","Canada","Canol",1752.53,"Little Bear N-9",50,{"$f":"AVERAGE(H12:I12)","v":0.79025},{"$f":"TRANSPOSE('Data Entry'!F82:F131)","v":0.763},0.8175,0,0,0,0,0,0,0,0,0,0,0,0,0,0,0,0,0,0,0,0,0,0,0,0,0,0,0,0,0,0,0,0,0,0,0,0,0,0,0,0,0,0,0,0,0,0,0,0]
["Plate 6 A-D  ","Canada","Canol",1765.07,"Little Bear N-9",50,1.068,{"$f":"TRANSPOSE('Data Entry'!G82:G131)","v":1.068},0,0,0,0,0,0,0,0,0,0,0,0,0,0,0,0,0,0,0,0,0,0,0,0,0,0,0,0,0,0,0,0,0,0,0,0,0,0,0,0,0,0,0,0,0,0,0,0,0]
["Plate 7 A-D  ","Canada","Canol",1779.04,"Little Bear N-9",50,{"$f":"AVERAGE(H14:K14)","v":1.29025},{"$f":"TRANSPOSE('Data Entry'!H82:H131)","v":1.168},1.203,1.378,1.412,0,0,0,0,0,0,0,0,0,0,0,0,0,0,0,0,0,0,0,0,0,0,0,0,0,0,0,0,0,0,0,0,0,0,0,0,0,0,0,0,0,0,0,0,0,0]
["Plate 8 A-D  ","Canada","Canol",1791.31,"Little Bear N-9",50,{"$f":"AVERAGE(H15:I15)","v":0.39315},{"$f":"TRANSPOSE('Data Entry'!I82:I131)","v":0.3927},0.3936,0,0,0,0,0,0,0,0,0,0,0,0,0,0,0,0,0,0,0,0,0,0,0,0,0,0,0,0,0,0,0,0,0,0,0,0,0,0,0,0,0,0,0,0,0,0,0,0]
["Plate 9 A-D  ","Canada","Canol",1805.38,"Little Bear N-9",50,{"$f":"AVERAGE(H16:Q16)","v":1.06386},{"$f":"TRANSPOSE('Data Entry'!J82:J131)","v":0.9189},0.9334,0.9557,0.9646,1.052,1.12,1.122,1.141,1.192,1.239,0,0,0,0,0,0,0,0,0,0,0,0,0,0,0,0,0,0,0,0,0,0,0,0,0,0,0,0,0,0,0,0,0,0,0,0,0,0,0,0]
["Plate 10 A-D  ","Canada","Canol",{"v":1820,"d":"1820.00"},"Little Bear N-9",50,{"$f":"AVERAGE(H17:M17)","v":1.2068333333333334},{"$f":"TRANSPOSE('Data Entry'!K82:K131)","v":1.079},1.148,1.185,1.206,1.271,1.352,0,0,0,0,0,0,0,0,0,0,0,0,0,0,0,0,0,0,0,0,0,0,0,0,0,0,0,0,0,0,0,0,0,0,0,0,0,0,0,0,0,0,0,0]

{"sheet":"Frequency","index":2,"n_rows":32,"n_cols":50,"rows_kept":32,"merged":[[2,0,3,0],[2,1,3,1],[2,2,3,2],[2,3,3,3],[2,4,3,4],[2,5,3,5],[2,6,3,6],[2,7,3,7],[2,8,3,8],[2,9,3,9],[2,10,3,10],[2,11,3,11],[2,12,3,12],[2,13,3,13],[2,14,3,14],[2,15,3,15],[2,16,3,16],[2,17,3,17],[2,18,3,18],[2,19,3,19],[2,20,3,20],[2,21,3,21],[2,22,3,22],[2,23,3,23],[2,24,3,24],[2,25,3,25],[2,26,3,26],[2,27,3,27],[2,28,3,28],[2,29,3,29],[2,30,3,30],[2,31,3,31],[2,32,3,32],[2,33,3,33],[2,34,3,34],[2,35,3,35],[2,36,3,36],[2,37,3,37],[2,38,3,38],[2,39,3,39],[2,40,3,40],[2,41,3,41],[2,42,3,42],[2,43,3,43],[2,44,3,44],[2,45,3,45],[2,46,3,46],[2,47,3,47],[2,48,3,48],[2,49,3,49]]}
["Pellet 1",{"$nulls":4},"Pellet 2",{"$nulls":4},"Pellet 3",{"$nulls":4},"Pellet 4",{"$nulls":4},"Pellet 5",{"$nulls":4},"Pellet 6",{"$nulls":4},"Pellet 7",{"$nulls":4},"Pellet 8",{"$nulls":4},"Pellet 9",{"$nulls":4},"Pellet 10"]
["Depth:",{"$f":"'Data Entry'!B2","v":1692.58},{"$nulls":3},"Depth:",{"$f":"'Data Entry'!H2","v":1710.08},{"$nulls":3},"Depth:",{"$f":"'Data Entry'!N2","v":1724.5},{"$nulls":3},"Depth:",{"$f":"'Data Entry'!T2","v":1738.45},{"$nulls":3},"Depth:",{"$f":"'Data Entry'!Z2","v":1752.53},{"$nulls":3},"Depth:",{"$f":"'Data Entry'!AF2","v":1765.07},{"$nulls":3},"Depth:",{"$f":"'Data Entry'!AL2","v":1779.04},{"$nulls":3},"Depth:",{"$f":"'Data Entry'!AR2","v":1791.31},{"$nulls":3},"Depth:",{"$f":"'Data Entry'!AX2","v":1805.38},{"$nulls":3},"Depth:",{"$f":"'Data Entry'!BD2","v":1820}]
["Individual OM Frequencies",{"$f":"'Data Entry'!C6","v":"Kgn"},{"$f":"'Data Entry'!D6","v":0},{"$f":"'Data Entry'!E6","v":0},{"$f":"'Data Entry'!F6","v":0},"Individual OM Frequencies",{"$f":"'Data Entry'!I6","v":"Kgn"},{"$f":"'Data Entry'!J6","v":0},{"$f":"'Data Entry'!K6","v":0},{"$f":"'Data Entry'!L6","v":0},"Individual OM Frequencies",{"$f":"'Data Entry'!O6","v":"Grnl Kgn"},{"$f":"'Data Entry'!P6","v":0},{"$f":"'Data Entry'!Q6","v":0},{"$f":"'Data Entry'!R6","v":0},"Individual OM Frequencies",{"$f":"'Data Entry'!U6","v":"Bit"},{"$f":"'Data Entry'!V6","v":0},{"$f":"'Data Entry'!W6","v":0},{"$f":"'Data Entry'!X6","v":0},"Individual OM Frequencies",{"$f":"'Data Entry'!AA6","v":"Bit"},{"$f":"'Data Entry'!AB6","v":0},{"$f":"'Data Entry'!AC6","v":0},{"$f":"'Data Entry'!AD6","v":0},"Individual OM Frequencies",{"$f":"'Data Entry'!AG6","v":"Grnl Kgn"},{"$f":"'Data Entry'!AH6","v":"Gr"},{"$f":"'Data Entry'!AI6","v":0},{"$f":"'Data Entry'!AJ6","v":0},"Individual OM Frequencies",{"$f":"'Data Entry'!AM6","v":"Grnl Kgn"},{"$f":"'Data Entry'!AN6","v":"Kgn"},{"$f":"'Data Entry'!AO6","v":0},{"$f":"'Data Entry'!AP6","v":0},"Individual OM Frequencies",{"$f":"'Data Entry'!AS6","v":"Grnl Kgn"},{"$f":"'Data Entry'!AT6","v":0},{"$f":"'Data Entry'!AU6","v":0},{"$f":"'Data Entry'!AV6","v":0},"Individual OM Frequencies",{"$f":"'Data Entry'!AY6","v":"Kgn"},{"$f":"'Data Entry'!AZ6","v":"Gr"},{"$f":"'Data Entry'!BA6","v":0},{"$f":"'Data Entry'!BB6","v":0},"Individual OM Frequencies",{"$f":"'Data Entry'!BE6","v":"Kgn"},{"$f":"'Data Entry'!BF6","v":"Gr"},{"$f":"'Data Entry'!BG6","v":0},{"$f":"'Data Entry'!BH6","v":0}]
[]
["Bins:",{"$nulls":4},"Bins:",{"$nulls":4},"Bins:",{"$nulls":4},"Bins:",{"$nulls":4},"Bins:",{"$nulls":4},"Bins:",{"$nulls":4},"Bins:",{"$nulls":4},"Bins:",{"$nulls":4},"Bins:",{"$nulls":4},"Bins:"]
[0.9,{"$f":"FREQUENCY('Data Entry'!C7:C19,A6:A10)","v":0},{"$nulls":3},0.8,{"$f":"FREQUENCY('Data Entry'!I7:I23,F6:F10)","v":0},{"$f":"FREQUENCY('Data Entry'!J7:J20,F6:F10)","v":0},{"$f":"FREQUENCY('Data Entry'!K7:K20,F6:F10)","v":0},null,0.4,{"$f":"FREQUENCY('Data Entry'!O7:O36,K6:K11)","v":0},{"$f":"FREQUENCY('Data Entry'!P7:P34,K6:K11)","v":0},null,null,0.7,{"$f":"FREQUENCY('Data Entry'!U7:U28,P6:P11)","v":0},{"$f":"FREQUENCY('Data Entry'!V7:V22,P6:P11)","v":0},null,null,0.6,{"$f":"FREQUENCY('Data Entry'!AA7:AA22,U6:U10)","v":0},{"$nulls":3},0.5,{"$f":"FREQUENCY('Data Entry'!AG7:AG30,Z6:Z13)","v":0},{"$f":"FREQUENCY('Data Entry'!AH7:AH26,Z6:Z13)","v":0},null,null,0.4,{"$f":"FREQUENCY('Data Entry'!AM7:AM28,AE6:AE13)","v":0},{"$f":"FREQUENCY('Data Entry'!AN7:AN31,AE6:AE13)","v":0},null,null,0.2,{"$f":"FREQUENCY('Data Entry'!AS7:AS28,AJ6:AJ9)","v":0},{"$nulls":3},0.6,{"$f":"FREQUENCY('Data Entry'!AY7:AY36,AO6:AO11)","v":0},{"$f":"FREQUENCY('Data Entry'!AZ7:AZ25,AO6:AO11)","v":0},null,null,0.9,{"$f":"FREQUENCY('Data Entry'!BE7:BE41,AT6:AT13)","v":0},{"$f":"FREQUENCY('Data Entry'!BF7:BF32,AT6:AT13)","v":0}]
[1,0,{"$nulls":3},1,0,0,0,null,0.6,0,0,null,null,0.8,0,0,null,null,0.7,0,{"$nulls":3},0.6,0,0,null,null,0.6,0,0,null,null,0.3,0,{"$nulls":3},0.8,0,0,null,null,1,0,0]
[1.1,2,{"$nulls":3},1.2,2,0,0,null,0.8,8,0,null,null,0.9,1,0,null,null,0.8,1,{"$nulls":3},0.7,1,0,null,null,0.8,2,0,null,null,0.4,2,{"$nulls":3},1,4,0,null,null,1.1,1,2]
[1.2,1,{"$nulls":3},1.4,2,0,0,null,1,3,0,null,null,1,1,0,null,null,0.9,1,{"$nulls":3},0.8,4,0,null,null,1,0,0,null,null,0.5,0,{"$nulls":3},1.2,5,2,null,null,1.2,2,0]
[1.3,0,{"$nulls":3},1.6,0,0,0,null,1.2,0,0,null,null,1.1,1,0,null,null,1,0,{"$nulls":3},0.9,2,0,null,null,1.2,0,1,{"$nulls":7},1.4,1,0,null,null,1.3,2,1]
[{"$nulls":5},1.8,0,0,0,null,1.4,0,0,null,null,1.2,1,0,{"$nulls":7},1,0,0,null,null,1.4,0,2,{"$nulls":7},1.6,0,0,null,null,1.4,1,0]
[{"$nulls":15},1.3,0,0,{"$nulls":7},1.1,0,1,null,null,1.6,0,1,{"$nulls":12},1.5,0,0]
[{"$nulls":25},1.2,0,0,null,null,1.8,0,0,{"$nulls":12},1.6,0,0]
{"$rows_empty":14}
["Max",{"$f":"'Data Entry'!C59","v":{"v":1.132,"d":"1.13"}},{"$f":"'Data Entry'!D59","v":{"v":0,"d":"0.00"}},{"$f":"'Data Entry'!E59","v":{"v":0,"d":"0.00"}},{"$f":"'Data Entry'!F59","v":{"v":0,"d":"0.00"}},"Max",{"$f":"'Data Entry'!I59","v":{"v":1.388,"d":"1.39"}},{"$f":"'Data Entry'!J59","v":{"v":0,"d":"0.00"}},{"$f":"'Data Entry'!K59","v":{"v":0,"d":"0.00"}},{"$f":"'Data Entry'!L59","v":{"v":0,"d":"0.00"}},"Max",{"$f":"'Data Entry'!O59","v":{"v":0.9688,"d":"0.97"}},{"$f":"'Data Entry'!P59","v":{"v":0,"d":"0.00"}},{"$f":"'Data Entry'!Q59","v":{"v":0,"d":"0.00"}},{"$f":"'Data Entry'!R59","v":{"v":0,"d":"0.00"}},"Max",{"$f":"'Data Entry'!U59","v":{"v":1.187,"d":"1.19"}},{"$f":"'Data Entry'!V59","v":{"v":0,"d":"0.00"}},{"$f":"'Data Entry'!W59","v":{"v":0,"d":"0.00"}},{"$f":"'Data Entry'!X59","v":{"v":0,"d":"0.00"}},"Max",{"$f":"'Data Entry'!AA59","v":{"v":0.8175,"d":"0.82"}},{"$f":"'Data Entry'!AB59","v":{"v":0,"d":"0.00"}},{"$f":"'Data Entry'!AC59","v":{"v":0,"d":"0.00"}},{"$f":"'Data Entry'!AD59","v":{"v":0,"d":"0.00"}},"Max",{"$f":"'Data Entry'!AG59","v":{"v":0.8449,"d":"0.84"}},{"$f":"'Data Entry'!AH59","v":{"v":1.068,"d":"1.07"}},{"$f":"'Data Entry'!AI59","v":{"v":0,"d":"0.00"}},{"$f":"'Data Entry'!AJ59","v":{"v":0,"d":"0.00"}},"Max",{"$f":"'Data Entry'!AM59","v":{"v":0.6443,"d":"0.64"}},{"$f":"'Data Entry'!AN59","v":{"v":1.412,"d":"1.41"}},{"$f":"'Data Entry'!AO59","v":{"v":0,"d":"0.00"}},{"$f":"'Data Entry'!AP59","v":{"v":0,"d":"0.00"}},"Max",{"$f":"'Data Entry'!AS59","v":{"v":0.3936,"d":"0.39"}},{"$f":"'Data Entry'!AT59","v":{"v":0,"d":"0.00"}},{"$f":"'Data Entry'!AU59","v":{"v":0,"d":"0.00"}},{"$f":"'Data Entry'!AV59","v":{"v":0,"d":"0.00"}},"Max",{"$f":"'Data Entry'!AY59","v":{"v":1.239,"d":"1.24"}},{"$f":"'Data Entry'!AZ59","v":{"v":1.077,"d":"1.08"}},{"$f":"'Data Entry'!BA59","v":{"v":0,"d":"0.00"}},{"$f":"'Data Entry'!BB59","v":{"v":0,"d":"0.00"}},"Max",{"$f":"'Data Entry'!BE59","v":{"v":1.352,"d":"1.35"}},{"$f":"'Data Entry'!BF59","v":{"v":1.295,"d":"1.30"}},{"$f":"'Data Entry'!BG59","v":{"v":0,"d":"0.00"}},{"$f":"'Data Entry'!BH59","v":{"v":0,"d":"0.00"}}]
["Min",{"$f":"'Data Entry'!C60","v":{"v":1.067,"d":"1.07"}},{"$f":"'Data Entry'!D60","v":{"v":0,"d":"0.00"}},{"$f":"'Data Entry'!E60","v":{"v":0,"d":"0.00"}},{"$f":"'Data Entry'!F60","v":{"v":0,"d":"0.00"}},"Min",{"$f":"'Data Entry'!I60","v":{"v":1.104,"d":"1.10"}},{"$f":"'Data Entry'!J60","v":{"v":0,"d":"0.00"}},{"$f":"'Data Entry'!K60","v":{"v":0,"d":"0.00"}},{"$f":"'Data Entry'!L60","v":{"v":0,"d":"0.00"}},"Min",{"$f":"'Data Entry'!O60","v":{"v":0.6594,"d":"0.66"}},{"$f":"'Data Entry'!P60","v":{"v":0,"d":"0.00"}},{"$f":"'Data Entry'!Q60","v":{"v":0,"d":"0.00"}},{"$f":"'Data Entry'!R60","v":{"v":0,"d":"0.00"}},"Min",{"$f":"'Data Entry'!U60","v":{"v":0.8967,"d":"0.90"}},{"$f":"'Data Entry'!V60","v":{"v":0,"d":"0.00"}},{"$f":"'Data Entry'!W60","v":{"v":0,"d":"0.00"}},{"$f":"'Data Entry'!X60","v":{"v":0,"d":"0.00"}},"Min",{"$f":"'Data Entry'!AA60","v":{"v":0.763,"d":"0.76"}},{"$f":"'Data Entry'!AB60","v":{"v":0,"d":"0.00"}},{"$f":"'Data Entry'!AC60","v":{"v":0,"d":"0.00"}},{"$f":"'Data Entry'!AD60","v":{"v":0,"d":"0.00"}},"Min",{"$f":"'Data Entry'!AG60","v":{"v":0.6825,"d":"0.68"}},{"$f":"'Data Entry'!AH60","v":{"v":1.068,"d":"1.07"}},{"$f":"'Data Entry'!AI60","v":{"v":0,"d":"0.00"}},{"$f":"'Data Entry'!AJ60","v":{"v":0,"d":"0.00"}},"Min",{"$f":"'Data Entry'!AM60","v":{"v":0.6156,"d":"0.62"}},{"$f":"'Data Entry'!AN60","v":{"v":1.168,"d":"1.17"}},{"$f":"'Data Entry'!AO60","v":{"v":0,"d":"0.00"}},{"$f":"'Data Entry'!AP60","v":{"v":0,"d":"0.00"}},"Min",{"$f":"'Data Entry'!AS60","v":{"v":0.3927,"d":"0.39"}},{"$f":"'Data Entry'!AT60","v":{"v":0,"d":"0.00"}},{"$f":"'Data Entry'!AU60","v":{"v":0,"d":"0.00"}},{"$f":"'Data Entry'!AV60","v":{"v":0,"d":"0.00"}},"Min",{"$f":"'Data Entry'!AY60","v":{"v":0.9189,"d":"0.92"}},{"$f":"'Data Entry'!AZ60","v":{"v":1.039,"d":"1.04"}},{"$f":"'Data Entry'!BA60","v":{"v":0,"d":"0.00"}},{"$f":"'Data Entry'!BB60","v":{"v":0,"d":"0.00"}},"Min",{"$f":"'Data Entry'!BE60","v":{"v":1.079,"d":"1.08"}},{"$f":"'Data Entry'!BF60","v":{"v":1.044,"d":"1.04"}},{"$f":"'Data Entry'!BG60","v":{"v":0,"d":"0.00"}},{"$f":"'Data Entry'!BH60","v":{"v":0,"d":"0.00"}}]
["Sum Data Entry",{"$f":"COUNT('Data Entry'!C7:C56)","v":3},{"$f":"COUNT('Data Entry'!D7:D56)","v":0},{"$f":"COUNT('Data Entry'!E7:E56)","v":0},{"$f":"COUNT('Data Entry'!F7:F56)","v":0},"Sum Data Entry",{"$f":"COUNT('Data Entry'!I7:I56)","v":4},{"$f":"COUNT('Data Entry'!J7:J56)","v":0},{"$f":"COUNT('Data Entry'!K7:K56)","v":0},{"$f":"COUNT('Data Entry'!L7:L56)","v":0},"Sum Data Entry",{"$f":"COUNT('Data Entry'!O7:O56)","v":11},{"$f":"COUNT('Data Entry'!P7:P56)","v":0},{"$f":"COUNT('Data Entry'!Q7:Q56)","v":0},{"$f":"COUNT('Data Entry'!R7:R56)","v":0},"Sum Data Entry",{"$f":"COUNT('Data Entry'!U7:U56)","v":4},{"$f":"COUNT('Data Entry'!V7:V56)","v":0},{"$f":"COUNT('Data Entry'!W7:W56)","v":0},{"$f":"COUNT('Data Entry'!X7:X56)","v":0},"Sum Data Entry",{"$f":"COUNT('Data Entry'!AA7:AA56)","v":2},{"$f":"COUNT('Data Entry'!AB7:AB56)","v":0},{"$f":"COUNT('Data Entry'!AC7:AC56)","v":0},{"$f":"COUNT('Data Entry'!AD7:AD56)","v":0},"Sum Data Entry",{"$f":"COUNT('Data Entry'!AG7:AG56)","v":7},{"$f":"COUNT('Data Entry'!AH7:AH56)","v":1},{"$f":"COUNT('Data Entry'!AI7:AI56)","v":0},{"$f":"COUNT('Data Entry'!AJ7:AJ56)","v":0},"Sum Data Entry",{"$f":"COUNT('Data Entry'!AM7:AM56)","v":2},{"$f":"COUNT('Data Entry'!AN7:AN56)","v":4},{"$f":"COUNT('Data Entry'!AO7:AO56)","v":0},{"$f":"COUNT('Data Entry'!AP7:AP56)","v":0},"Sum Data Entry",{"$f":"COUNT('Data Entry'!AS7:AS56)","v":2},{"$f":"COUNT('Data Entry'!AT7:AT56)","v":0},{"$f":"COUNT('Data Entry'!AU7:AU56)","v":0},{"$f":"COUNT('Data Entry'!AV7:AV56)","v":0},"Sum Data Entry",{"$f":"COUNT('Data Entry'!AY7:AY56)","v":10},{"$f":"COUNT('Data Entry'!AZ7:AZ56)","v":2},{"$f":"COUNT('Data Entry'!BA7:BA56)","v":0},{"$f":"COUNT('Data Entry'!BB7:BB56)","v":0},"Sum Data Entry",{"$f":"COUNT('Data Entry'!BE7:BE56)","v":6},{"$f":"COUNT('Data Entry'!BF7:BF56)","v":3},{"$f":"COUNT('Data Entry'!BG7:BG56)","v":0},{"$f":"COUNT('Data Entry'!BH7:BH56)","v":0}]
["Sum Frequency",{"$f":"SUM(B6:B26)","v":3},{"$f":"SUM(C6:C26)","v":0},{"$f":"SUM(D6:D26)","v":0},{"$f":"SUM(E6:E26)","v":0},"Sum Frequency",{"$f":"SUM(G6:G26)","v":4},{"$f":"SUM(H6:H26)","v":0},0,0,"Sum Frequency",11,0,0,0,"Sum Frequency",4,0,0,0,"Sum Frequency",2,0,0,0,"Sum Frequency",7,1,0,0,"Sum Frequency",2,4,0,0,"Sum Frequency",2,0,0,0,"Sum Frequency",10,2,0,0,"Sum Frequency",6,3,0,0]
["Confirm",{"$f":"IF(B30<>B31,FALSE,TRUE)","v":true},{"$f":"IF(C30<>C31,FALSE,TRUE)","v":true},{"$f":"IF(D30<>D31,FALSE,TRUE)","v":true},{"$f":"IF(E30<>E31,FALSE,TRUE)","v":true},"Confirm",{"$f":"IF(G30<>G31,FALSE,TRUE)","v":true},{"$f":"IF(H30<>H31,FALSE,TRUE)","v":true},{"$f":"IF(I30<>I31,FALSE,TRUE)","v":true},{"$f":"IF(J30<>J31,FALSE,TRUE)","v":true},"Confirm",{"$f":"IF(L30<>L31,FALSE,TRUE)","v":true},{"$f":"IF(M30<>M31,FALSE,TRUE)","v":true},{"$f":"IF(N30<>N31,FALSE,TRUE)","v":true},{"$f":"IF(O30<>O31,FALSE,TRUE)","v":true},"Confirm",{"$f":"IF(Q30<>Q31,FALSE,TRUE)","v":true},{"$f":"IF(R30<>R31,FALSE,TRUE)","v":true},{"$f":"IF(S30<>S31,FALSE,TRUE)","v":true},{"$f":"IF(T30<>T31,FALSE,TRUE)","v":true},"Confirm",{"$f":"IF(V30<>V31,FALSE,TRUE)","v":true},{"$f":"IF(W30<>W31,FALSE,TRUE)","v":true},{"$f":"IF(X30<>X31,FALSE,TRUE)","v":true},{"$f":"IF(Y30<>Y31,FALSE,TRUE)","v":true},"Confirm",{"$f":"IF(AA30<>AA31,FALSE,TRUE)","v":true},{"$f":"IF(AB30<>AB31,FALSE,TRUE)","v":true},{"$f":"IF(AC30<>AC31,FALSE,TRUE)","v":true},{"$f":"IF(AD30<>AD31,FALSE,TRUE)","v":true},"Confirm",{"$f":"IF(AF30<>AF31,FALSE,TRUE)","v":true},{"$f":"IF(AG30<>AG31,FALSE,TRUE)","v":true},{"$f":"IF(AH30<>AH31,FALSE,TRUE)","v":true},{"$f":"IF(AI30<>AI31,FALSE,TRUE)","v":true},"Confirm",{"$f":"IF(AK30<>AK31,FALSE,TRUE)","v":true},{"$f":"IF(AL30<>AL31,FALSE,TRUE)","v":true},{"$f":"IF(AM30<>AM31,FALSE,TRUE)","v":true},{"$f":"IF(AN30<>AN31,FALSE,TRUE)","v":true},"Confirm",{"$f":"IF(AP30<>AP31,FALSE,TRUE)","v":true},{"$f":"IF(AQ30<>AQ31,FALSE,TRUE)","v":true},{"$f":"IF(AR30<>AR31,FALSE,TRUE)","v":true},{"$f":"IF(AS30<>AS31,FALSE,TRUE)","v":true},"Confirm",{"$f":"IF(AU30<>AU31,FALSE,TRUE)","v":true},{"$f":"IF(AV30<>AV31,FALSE,TRUE)","v":true},{"$f":"IF(AW30<>AW31,FALSE,TRUE)","v":true},{"$f":"IF(AX30<>AX31,FALSE,TRUE)","v":true}]

{"sheet":"Pellet 1","index":3,"n_rows":12,"n_cols":15,"rows_kept":12,"merged":[[7,4,11,7]]}
[]
[null,{"$f":"Database!A8","v":"Plate 1 A-D  "},{"$f":"Database!B3","v":"Vitrinite Reflectance Measurements, Histogram and Images"}]
[]
["Company:",{"$f":"Database!C1","v":"Husky Energy"}]
["Formation",{"$f":"Database!C8","v":"Canol"},{"$nulls":7},"List of Ro Values in Increasing Order:"]
["Location:",{"$f":"Database!B8","v":"Canada"},{"$nulls":7},{"$f":"Database!H8","v":{"v":1.067,"d":"1.07"}},{"$f":"Database!I8","v":{"v":1.078,"d":"1.08"}},{"$f":"Database!J8","v":{"v":1.132,"d":"1.13"}}]
["Depth (m):",{"$f":"Database!D8","v":1692.58},null,null,"Well:",{"$f":"Database!E8","v":"Little Bear N-9"}]
["Min Value",null,{"$f":"MIN(J6:S10)","v":{"v":1.067,"d":"1.07"}},null,"The mean Ro,ran of the primary kerogen is 1.09% based on 3 measurements. The organic matter is mature and in the upper stage of the oil window."]
["Max Value",null,{"$f":"MAX(J6:S10)","v":{"v":1.132,"d":"1.13"}}]
["Mean Value",null,{"$f":"AVERAGE(J6:S10)","v":{"v":1.0923333333333334,"d":"1.09"}}]
["# of Measurements",null,{"$f":"COUNT(J6:S10)","v":3},{"$nulls":11},"    10 micrometers"]
["Strd Deviation",null,{"$f":"STDEV(J6:S10)","v":{"v":0.03478984526169769,"d":"0.03"}}]

{"sheet":"Pellet 2","index":4,"n_rows":12,"n_cols":15,"rows_kept":12,"merged":[[7,4,11,7]]}
[]
[null,{"$f":"Database!A9","v":"Plate 2 A-D  "},{"$f":"Database!B3","v":"Vitrinite Reflectance Measurements, Histogram and Images"}]
[]
["Company:",{"$f":"Database!C1","v":"Husky Energy"}]
["Formation",{"$f":"Database!C9","v":"Canol"},{"$nulls":7},"List of Ro Values in Increasing Order:"]
["Location:",{"$f":"Database!B9","v":"Canada"},{"$nulls":7},{"$f":"Database!H9","v":{"v":1.282,"d":"1.28"}},{"$f":"Database!I9","v":{"v":1.104,"d":"1.10"}},{"$f":"Database!J9","v":1.12},{"$f":"Database!K9","v":{"v":1.388,"d":"1.39"}}]
["Depth (m):",{"$f":"Database!D9","v":1710.08},null,null,"Well:",{"$f":"Database!E9","v":"Little Bear N-9"}]
["Min Value",null,{"$f":"MIN(J6:S10)","v":{"v":1.104,"d":"1.10"}},null,"The mean Ro,ran of the primary kerogen is 1.22% based on 4 measurements. The organic matter is mature and in the upper stage of the oil window."]
["Max Value",null,{"$f":"MAX(J6:S10)","v":{"v":1.388,"d":"1.39"}}]
["Mean Value",null,{"$f":"AVERAGE(J6:S10)","v":{"v":1.2235,"d":"1.22"}}]
["# of Measurements",null,{"$f":"COUNT(J6:S10)","v":4},{"$nulls":11},"    10 micrometers"]
["Strd Deviation",null,{"$f":"STDEV(J6:S10)","v":{"v":0.13598406769422108,"d":"0.14"}}]

{"sheet":"Pellet 3","index":5,"n_rows":12,"n_cols":16,"rows_kept":12,"merged":[[7,4,11,7]]}
[]
[null,{"$f":"Database!A10","v":"Plate 3 A-D  "},{"$f":"Database!B3","v":"Vitrinite Reflectance Measurements, Histogram and Images"}]
[]
["Company:",{"$f":"Database!C1","v":"Husky Energy"}]
["Formation",{"$f":"Database!C10","v":"Canol"},{"$nulls":7},"List of Ro Values in Increasing Order:"]
["Location:",{"$f":"Database!B10","v":"Canada"},{"$nulls":7},{"$f":"Database!H10","v":{"v":0.6762,"d":"0.68"}},{"$f":"Database!I10","v":{"v":0.7352,"d":"0.74"}},{"$f":"Database!J10","v":{"v":0.7361,"d":"0.74"}},{"$f":"Database!K10","v":{"v":0.7712,"d":"0.77"}},{"$f":"Database!L10","v":{"v":0.8485,"d":"0.85"}},{"$f":"Database!M10","v":{"v":0.8696,"d":"0.87"}},{"$f":"Database!N10","v":{"v":0.9688,"d":"0.97"}}]
["Depth (m):",{"$f":"Database!D10","v":{"v":1724.5,"d":"1724.50"}},null,null,"Well:",{"$f":"Database!E10","v":"Little Bear N-9"}]
["Min Value",null,{"$f":"MIN(J6:S10)","v":{"v":0.6762,"d":"0.68"}},null,"The mean Ro,ran of the granular kerogen is 0.80% based on 7 measurements. The above Ro value does not represent the level of maturity of this sample."]
["Max Value",null,{"$f":"MAX(J6:S10)","v":{"v":0.9688,"d":"0.97"}}]
["Mean Value",null,{"$f":"AVERAGE(J6:S10)","v":{"v":0.8008,"d":"0.80"}}]
["# of Measurements",null,{"$f":"COUNT(J6:S10)","v":7},{"$nulls":11},"    10 micrometers"]
["Strd Deviation",null,{"$f":"STDEV(J6:S10)","v":{"v":0.10010286376189872,"d":"0.10"}}]

{"sheet":"Pellet 4","index":6,"n_rows":12,"n_cols":15,"rows_kept":12,"merged":[[7,4,11,7]]}
[]
[null,{"$f":"Database!A11","v":"Plate 4 A-D  "},{"$f":"Database!B3","v":"Vitrinite Reflectance Measurements, Histogram and Images"}]
[]
["Company:",{"$f":"Database!C1","v":"Husky Energy"}]
["Formation",{"$f":"Database!C11","v":"Canol"},{"$nulls":7},"List of Ro Values in Increasing Order:"]
["Location:",{"$f":"Database!B11","v":"Canada"},{"$nulls":7},{"$f":"Database!H11","v":{"v":0.8967,"d":"0.90"}},{"$f":"Database!I11","v":{"v":0.9144,"d":"0.91"}},{"$f":"Database!J11","v":{"v":1.089,"d":"1.09"}},{"$f":"Database!K11","v":{"v":1.187,"d":"1.19"}}]
["Depth (m):",{"$f":"Database!D11","v":1738.45},null,null,"Well:",{"$f":"Database!E11","v":"Little Bear N-9"}]
["Min Value",null,{"$f":"MIN(J6:S10)","v":{"v":0.8967,"d":"0.90"}},null,"The mean Ro,ran of the bitumen is 1.02% based on 4 measurements. The VRo-eq is 1.03%. The organic matter is mature and in the early upper stage of the oil window."]
["Max Value",null,{"$f":"MAX(J6:S10)","v":{"v":1.187,"d":"1.19"}},{"$nulls":6},"The above values were measured on bitumen. The VRo-eq is estimated to be 1.03% using "]
["Mean Value",null,{"$f":"AVERAGE(J6:S10)","v":{"v":1.021775,"d":"1.02"}},{"$nulls":6},"the Jacob formula (Rvit=Rbit x 0.618 + 0.4)."]
["# of Measurements",null,{"$f":"COUNT(J6:S10)","v":4},{"$nulls":11},"    10 micrometers"]
["Strd Deviation",null,{"$f":"STDEV(J6:S10)","v":{"v":0.14022796618363875,"d":"0.14"}}]

{"sheet":"Pellet 5","index":7,"n_rows":12,"n_cols":15,"rows_kept":12,"merged":[[7,4,11,7]]}
[]
[null,{"$f":"Database!A12","v":"Plate 5 A-D  "},{"$f":"Database!B3","v":"Vitrinite Reflectance Measurements, Histogram and Images"}]
[]
["Company:",{"$f":"Database!C1","v":"Husky Energy"}]
["Formation",{"$f":"Database!C12","v":"Canol"},{"$nulls":7},"List of Ro Values in Increasing Order:"]
["Location:",{"$f":"Database!B12","v":"Canada"},{"$nulls":7},{"$f":"Database!H12","v":{"v":0.763,"d":"0.76"}},{"$f":"Database!I12","v":{"v":0.8175,"d":"0.82"}}]
["Depth (m):",{"$f":"Database!D12","v":1752.53},null,null,"Well:",{"$f":"Database!E12","v":"Little Bear N-9"}]
["Min Value",null,{"$f":"MIN(J6:S10)","v":{"v":0.763,"d":"0.76"}},null,"The mean Ro,ran of the bitumen is 0.79% based on 2 measurements. The VRo-eq is 0.89%, which is not considered to reflect the true level of maturity of the sample."]
["Max Value",null,{"$f":"MAX(J6:S10)","v":{"v":0.8175,"d":"0.82"}},{"$nulls":6},"The above values were measured on bitumen. VRo-eq is 0.89% using the Jacob formula "]
["Mean Value",null,{"$f":"AVERAGE(J6:S10)","v":{"v":0.79025,"d":"0.79"}},{"$nulls":6},"(Rvit=Rbit x 0.618 + 0.4)."]
["# of Measurements",null,{"$f":"COUNT(J6:S10)","v":2},{"$nulls":11},"    10 micrometers"]
["Strd Deviation",null,{"$f":"STDEV(J6:S10)","v":{"v":0.038537319574667966,"d":"0.04"}}]

{"sheet":"Pellet 6","index":8,"n_rows":12,"n_cols":15,"rows_kept":12,"merged":[[7,4,11,7]]}
[]
[null,{"$f":"Database!A13","v":"Plate 6 A-D  "},{"$f":"Database!B3","v":"Vitrinite Reflectance Measurements, Histogram and Images"}]
[]
["Company:",{"$f":"Database!C1","v":"Husky Energy"}]
["Formation",{"$f":"Database!C13","v":"Canol"},{"$nulls":7},"List of Ro Values in Increasing Order:"]
["Location:",{"$f":"Database!B13","v":"Canada"},{"$nulls":7},{"$f":"Database!H13","v":{"v":1.068,"d":"1.07"}}]
["Depth (m):",{"$f":"Database!D13","v":1765.07},null,null,"Well:",{"$f":"Database!E13","v":"Little Bear N-9"}]
["Min Value",null,{"$f":"MIN(J6:S10)","v":{"v":1.068,"d":"1.07"}},null,"The Ro,ran of the single graptolite particle is 1.07%. The VRo-eq is estimated to be 1.15%. The organic matter is mature and in the upper part of the oil window."]
["Max Value",null,{"$f":"MAX(J6:S10)","v":{"v":1.068,"d":"1.07"}},{"$nulls":6},"The above value was measured on graptolite. The VRo-eq is estimated to be 1.15% based on"]
["Mean Value",null,{"$f":"AVERAGE(J6:S10)","v":{"v":1.068,"d":"1.07"}},{"$nulls":6},"the correlation by Bertrand (1990)."]
["# of Measurements",null,{"$f":"COUNT(J6:S10)","v":1},{"$nulls":11},"    10 micrometers"]
["Strd Deviation",null,"N/A"]

{"sheet":"Pellet 7","index":9,"n_rows":12,"n_cols":15,"rows_kept":12,"merged":[[7,4,11,7]]}
[]
[null,{"$f":"Database!A14","v":"Plate 7 A-D  "},{"$f":"Database!B3","v":"Vitrinite Reflectance Measurements, Histogram and Images"}]
[]
["Company:",{"$f":"Database!C1","v":"Husky Energy"}]
["Formation",{"$f":"Database!C14","v":"Canol"},{"$nulls":7},"List of Ro Values in Increasing Order:"]
["Location:",{"$f":"Database!B14","v":"Canada"},{"$nulls":7},{"$f":"Database!H14","v":{"v":1.168,"d":"1.17"}},{"$f":"Database!I14","v":{"v":1.203,"d":"1.20"}},{"$f":"Database!J14","v":{"v":1.378,"d":"1.38"}},{"$f":"Database!K14","v":{"v":1.412,"d":"1.41"}}]
["Depth (m):",{"$f":"Database!D14","v":1779.04},null,null,"Well:",{"$f":"Database!E14","v":"Little Bear N-9"}]
["Min Value",null,{"$f":"MIN(J6:S10)","v":{"v":1.168,"d":"1.17"}},null,"The mean Ro,ran of the primary kerogen (vitrinitic) is 1.29% based on 4 measurements. Organic matter is mature and in the upper part of the oil generation zone. "]
["Max Value",null,{"$f":"MAX(J6:S10)","v":{"v":1.412,"d":"1.41"}}]
["Mean Value",null,{"$f":"AVERAGE(J6:S10)","v":{"v":1.29025,"d":"1.29"}}]
["# of Measurements",null,{"$f":"COUNT(J6:S10)","v":4},{"$nulls":11},"    10 micrometers"]
["Strd Deviation",null,{"$f":"STDEV(J6:S10)","v":{"v":0.12258432471840264,"d":"0.12"}}]

{"sheet":"Pellet 8","index":10,"n_rows":12,"n_cols":15,"rows_kept":12,"merged":[[7,4,11,7]]}
[]
[null,{"$f":"Database!A15","v":"Plate 8 A-D  "},{"$f":"Database!B3","v":"Vitrinite Reflectance Measurements, Histogram and Images"}]
[]
["Company:",{"$f":"Database!C1","v":"Husky Energy"}]
["Formation",{"$f":"Database!C15","v":"Canol"},{"$nulls":7},"List of Ro Values in Increasing Order:"]
["Location:",{"$f":"Database!B15","v":"Canada"},{"$nulls":7},{"$f":"Database!H15","v":{"v":0.3927,"d":"0.39"}},{"$f":"Database!I15","v":{"v":0.3936,"d":"0.39"}}]
["Depth (m):",{"$f":"Database!D15","v":1791.31},null,null,"Well:",{"$f":"Database!E15","v":"Little Bear N-9"}]
["Min Value",null,{"$f":"MIN(J6:S10)","v":{"v":0.3927,"d":"0.39"}},null,"The mean Ro,ran of the granular kerogen is 0.39% based on 2 measurements. The above Ro value is not representing the level of thermal maturity of this sample."]
["Max Value",null,{"$f":"MAX(J6:S10)","v":{"v":0.3936,"d":"0.39"}}]
["Mean Value",null,{"$f":"AVERAGE(J6:S10)","v":{"v":0.39315,"d":"0.39"}}]
["# of Measurements",null,{"$f":"COUNT(J6:S10)","v":2},{"$nulls":11},"    10 micrometers"]
["Strd Deviation",null,{"$f":"STDEV(J6:S10)","v":{"v":6.3639610306790123E-4,"d":"0.00"}}]

{"sheet":"Pellet 9","index":11,"n_rows":12,"n_cols":19,"rows_kept":12,"merged":[[7,4,11,7]]}
[]
[null,{"$f":"Database!A16","v":"Plate 9 A-D  "},{"$f":"Database!B3","v":"Vitrinite Reflectance Measurements, Histogram and Images"}]
[]
["Company:",{"$f":"Database!C1","v":"Husky Energy"}]
["Formation",{"$f":"Database!C16","v":"Canol"},{"$nulls":7},"List of Ro Values in Increasing Order:"]
["Location:",{"$f":"Database!B16","v":"Canada"},{"$nulls":7},{"$f":"Database!H16","v":{"v":0.9189,"d":"0.92"}},{"$f":"Database!I16","v":{"v":0.9334,"d":"0.93"}},{"$f":"Database!J16","v":{"v":0.9557,"d":"0.96"}},{"$f":"Database!K16","v":{"v":0.9646,"d":"0.96"}},{"$f":"Database!L16","v":{"v":1.052,"d":"1.05"}},{"$f":"Database!M16","v":1.12},{"$f":"Database!N16","v":{"v":1.122,"d":"1.12"}},{"$f":"Database!O16","v":{"v":1.141,"d":"1.14"}},{"$f":"Database!P16","v":{"v":1.192,"d":"1.19"}},{"$f":"Database!Q16","v":{"v":1.239,"d":"1.24"}}]
["Depth (m):",{"$f":"Database!D16","v":1805.38},null,null,"Well:",{"$f":"Database!E16","v":"Little Bear N-9"}]
["Min Value",null,{"$f":"MIN(J6:S10)","v":{"v":0.9189,"d":"0.92"}},null,"The mean Ro,ran of the primary kerogen (vitrinitic) is 1.06% based on 10 measurements. VRo-eq from graptolite Ro is 1.13%. Organic matter is mature and in the upper part of the oil generation zone. "]
["Max Value",null,{"$f":"MAX(J6:S10)","v":{"v":1.239,"d":"1.24"}},{"$nulls":6},"VRo-eq from graptolite Ro is 1.13%, which is slightly higher than the measured vitrinite mean "]
["Mean Value",null,{"$f":"AVERAGE(J6:S10)","v":{"v":1.06386,"d":"1.06"}},{"$nulls":6},"Ro of 1.06%. The VRo-eq value (1.13%) should be used to construct the maturation profile. "]
["# of Measurements",null,{"$f":"COUNT(J6:S10)","v":10},{"$nulls":11},"    10 micrometers"]
["Strd Deviation",null,{"$f":"STDEV(J6:S10)","v":{"v":0.11513346072179859,"d":"0.12"}}]

{"sheet":"Pellet 10","index":12,"n_rows":12,"n_cols":15,"rows_kept":12,"merged":[[7,4,11,7]]}
[]
[{"$f":"Database!A17","v":"Plate 10 A-D  "},null,{"$f":"Database!B3","v":"Vitrinite Reflectance Measurements, Histogram and Images"}]
[]
["Company:",{"$f":"Database!C1","v":"Husky Energy"}]
["Formation",{"$f":"Database!C17","v":"Canol"},{"$nulls":7},"List of Ro Values in Increasing Order:"]
["Location:",{"$f":"Database!B17","v":"Canada"},{"$nulls":7},{"$f":"Database!H17","v":{"v":1.079,"d":"1.08"}},{"$f":"Database!I17","v":{"v":1.148,"d":"1.15"}},{"$f":"Database!J17","v":{"v":1.185,"d":"1.19"}},{"$f":"Database!K17","v":{"v":1.206,"d":"1.21"}},{"$f":"Database!L17","v":{"v":1.271,"d":"1.27"}},{"$f":"Database!M17","v":{"v":1.352,"d":"1.35"}}]
["Depth (m):",{"$f":"Database!D17","v":{"v":1820,"d":"1820.00"}},null,null,"Well:",{"$f":"Database!E17","v":"Little Bear N-9"}]
["Min Value",null,{"$f":"MIN(J6:S10)","v":{"v":1.079,"d":"1.08"}},null,"The mean Ro,ran of the primary kerogen (vitrinitic) is 1.21% based on 6 measurements. Organic matter is mature and in the upper part of the oil generation zone. "]
["Max Value",null,{"$f":"MAX(J6:S10)","v":{"v":1.352,"d":"1.35"}}]
["Mean Value",null,{"$f":"AVERAGE(J6:S10)","v":{"v":1.2068333333333334,"d":"1.21"}}]
["# of Measurements",null,{"$f":"COUNT(J6:S10)","v":6},{"$nulls":11},"    10 micrometers"]
["Strd Deviation",null,{"$f":"STDEV(J6:S10)","v":{"v":0.09536334026587927,"d":"0.10"}}]