{"text_format":"3","workbook":"xlsx","n_sheets":13,"sheets":["Data Entry","Database","Frequency","Pellet 1","Pellet 2","Pellet 3","Pellet 4","Pellet 5","Pellet 6","Pellet 7","Pellet 8","Pellet 9","Pellet 10"],"not_rendered":{"charts":10,"images":40,"macros":1,"defined_names":8},"read":"whole","date_system":"1900"}

{"sheet":"Data Entry","index":0,"n_rows":131,"n_cols":60,"rows_kept":131,"merged":[[57,0,58,0],[57,6,58,6],[57,12,58,12],[57,18,58,18],[57,24,58,24],[57,30,58,30],[57,36,58,36],[57,42,58,42],[57,48,58,48],[57,54,58,54]]}
["Pellet 1",{"$nulls":5},"Pellet 2",{"$nulls":5},"Pellet 3",{"$nulls":5},"Pellet 4",{"$nulls":5},"Pellet 5",{"$nulls":5},"Pellet 6",{"$nulls":5},"Pellet 7",{"$nulls":5},"Pellet 8",{"$nulls":5},"Pellet 9",{"$nulls":5},"Pellet 10"]
["Depth:",{"v":1175,"d":"1175.00"},{"$nulls":4},"Depth:",{"v":1186.7,"d":"1186.70"},{"$nulls":4},"Depth:",{"v":1196.8,"d":"1196.80"},{"$nulls":4},"Depth:",{"v":1214.6,"d":"1214.60"},{"$nulls":4},"Depth:",{"v":1232.4,"d":"1232.40"},{"$nulls":4},"Depth:",1239.85,{"$nulls":4},"Depth:",{"v":1248.6,"d":"1248.60"},{"$nulls":4},"Depth:",{"v":1270,"d":"1270.00"},{"$nulls":4},"Depth:",{"v":1279.1,"d":"1279.10"},{"$nulls":4},"Depth:",1284.45]
["Well:","Slater River H-64",{"$nulls":4},"Well:","Slater River H-64",{"$nulls":4},"Well:","Slater River H-64",{"$nulls":4},"Well:","Slater River H-64",{"$nulls":4},"Well:","Slater River H-64",{"$nulls":4},"Well:","Slater River H-64",{"$nulls":4},"Well:","Slater River H-64",{"$nulls":4},"Well:","Slater River H-64",{"$nulls":4},"Well:","Slater River H-64",{"$nulls":4},"Well:","Slater River H-64"]
["Pellet #","363-12",{"$nulls":4},"Pellet #","364-12",{"$nulls":4},"Pellet #","365-12",{"$nulls":4},"Pellet #","366-12",{"$nulls":4},"Pellet #","367-12",{"$nulls":4},"Pellet #","368-12",{"$nulls":4},"Pellet #","369-12",{"$nulls":4},"Pellet #","370-12",{"$nulls":4},"Pellet #","371-12",{"$nulls":4},"Pellet #","372-12"]
[null,"Count:",{"$f":"COUNT(C7:C56)","v":18},{"$f":"COUNT(D7:D56)","v":3},{"$f":"COUNT(E7:E56)","v":0},{"$f":"COUNT(F7:F56)","v":0},null,"Count:",{"$f":"COUNT(I7:I56)","v":7},{"$f":"COUNT(J7:J56)","v":2},{"$f":"COUNT(K7:K56)","v":0},{"$f":"COUNT(L7:L56)","v":0},null,"Count:",{"$f":"COUNT(O7:O56)","v":3},{"$f":"COUNT(P7:P56)","v":2},{"$f":"COUNT(Q7:Q56)","v":0},{"$f":"COUNT(R7:R56)","v":0},null,"Count:",{"$f":"COUNT(U7:U56)","v":1},{"$f":"COUNT(V7:V56)","v":1},{"$f":"COUNT(W7:W56)","v":0},{"$f":"COUNT(X7:X56)","v":0},null,"Count:",{"$f":"COUNT(AA7:AA56)","v":8},{"$f":"COUNT(AB7:AB56)","v":9},{"$f":"COUNT(AC7:AC56)","v":0},{"$f":"COUNT(AD7:AD56)","v":0},null,"Count:",{"$f":"COUNT(AG7:AG56)","v":44},{"$f":"COUNT(AH7:AH56)","v":5},{"$f":"COUNT(AI7:AI56)","v":7},{"$f":"COUNT(AJ7:AJ56)","v":0},null,"Count:",{"$f":"COUNT(AM7:AM56)","v":3},{"$f":"COUNT(AN7:AN56)","v":0},{"$f":"COUNT(AO7:AO56)","v":0},{"$f":"COUNT(AP7:AP56)","v":0},null,"Count:",{"$f":"COUNT(AS7:AS56)","v":3},{"$f":"COUNT(AT7:AT56)","v":9},{"$f":"COUNT(AU7:AU56)","v":3},{"$f":"COUNT(AV7:AV56)","v":0},null,"Count:",{"$f":"COUNT(AY7:AY56)","v":6},{"$f":"COUNT(AZ7:AZ56)","v":0},{"$f":"COUNT(BA7:BA56)","v":0},{"$f":"COUNT(BB7:BB56)","v":0},null,"Count:",{"$f":"COUNT(BE7:BE56)","v":15},{"$f":"COUNT(BF7:BF56)","v":0},{"$f":"COUNT(BG7:BG56)","v":0},{"$f":"COUNT(BH7:BH56)","v":0}]
[null,"OM Type:","Kgn","Pbit",{"$nulls":3},"OM Type:","Kgn","Pbit",{"$nulls":3},"OM Type:","Kgn","Grnl Kgn",{"$nulls":3},"OM Type:","Kgn","Pbit",{"$nulls":3},"OM Type:","Kgn","Grnl Kgn",{"$nulls":3},"OM Type:","Pbit","Kgn","Grnl Kgn",null,null,"OM Type:","Kgn",{"$nulls":4},"OM Type:","Kgn","Gr","Pbit",null,null,"OM Type:","Kgn",{"$nulls":4},"OM Type:","Kgn"]
[null,null,0.904,1.085,{"$nulls":4},0.9267,0.8963,{"$nulls":4},0.9205,0.6191,{"$nulls":4},0.805,0.5492,{"$nulls":4},0.9798,0.537,{"$nulls":4},0.9226,0.8412,0.6515,{"$nulls":3},0.8155,{"$nulls":5},0.938,0.7709,0.9367,{"$nulls":3},1.247,{"$nulls":5},0.8682]
[null,null,0.9196,0.9385,{"$nulls":4},0.9984,0.951,{"$nulls":4},0.9053,0.6298,{"$nulls":10},1.006,0.555,{"$nulls":4},0.9739,0.9505,0.6339,{"$nulls":3},0.7668,{"$nulls":5},1.092,0.7616,0.9267,{"$nulls":3},1.165,{"$nulls":5},1.039]
[null,null,0.9611,0.9962,{"$nulls":4},0.8783,{"$nulls":5},0.8686,{"$nulls":11},0.9195,0.5367,{"$nulls":4},0.9758,0.8247,0.6161,{"$nulls":3},0.8389,{"$nulls":5},0.9162,0.707,1.001,{"$nulls":3},1.065,{"$nulls":5},1.014]
[null,null,0.9656,{"$nulls":5},0.8319,{"$nulls":17},0.9533,0.562,{"$nulls":4},0.934,0.9608,0.5993,{"$nulls":10},0.6268,{"$nulls":4},1.068,{"$nulls":5},0.9899]
[null,null,0.9337,{"$nulls":5},0.8384,{"$nulls":17},0.9466,0.5944,{"$nulls":4},0.8499,0.8713,0.6166,{"$nulls":10},0.6792,{"$nulls":4},1.177,{"$nulls":5},0.9982]
[null,null,0.8161,{"$nulls":5},0.8948,{"$nulls":17},0.866,0.6009,{"$nulls":4},0.8993,null,0.6558,{"$nulls":10},0.6574,{"$nulls":4},1.197,{"$nulls":5},0.9705]
[null,null,1.18,{"$nulls":5},0.8531,{"$nulls":17},0.9395,0.5707,{"$nulls":4},0.9941,null,0.5928,{"$nulls":10},0.5857,{"$nulls":10},1.036]
[null,null,0.9143,{"$nulls":23},0.8327,0.5876,{"$nulls":4},0.968,{"$nulls":12},0.6772,{"$nulls":10},1.147]
[null,null,1.068,{"$nulls":24},0.5854,{"$nulls":4},0.8578,{"$nulls":12},0.759,{"$nulls":10},1.006]
[null,null,1.039,{"$nulls":29},0.9621,{"$nulls":23},0.923]
[null,null,1.092,{"$nulls":29},0.9942,{"$nulls":23},1.086]
[null,null,1.078,{"$nulls":29},0.9558,{"$nulls":23},1.102]
[null,null,1.112,{"$nulls":29},0.9849,{"$nulls":23},1.012]
[null,null,1.196,{"$nulls":29},0.9693,{"$nulls":23},0.9032]
[null,null,1.146,{"$nulls":29},0.9615,{"$nulls":23},0.926]
[null,null,1.161,{"$nulls":29},0.9682]
[null,null,0.9543,{"$nulls":29},0.8787]
[null,null,1.178,{"$nulls":29},0.9584]
[{"$nulls":32},0.8674]
[{"$nulls":32},0.9387]
[{"$nulls":32},0.8867]
[{"$nulls":32},0.9038]
[{"$nulls":32},0.8782]
[{"$nulls":32},1.032]
[{"$nulls":32},0.9832]
[{"$nulls":32},0.9887]
[{"$nulls":32},0.952]
[{"$nulls":32},0.9844]
[{"$nulls":32},0.9071]
[{"$nulls":32},0.993]
[{"$nulls":32},0.9844]
[{"$nulls":32},1.028]
[{"$nulls":32},0.9093]
[{"$nulls":32},1.046]
[{"$nulls":32},0.9482]
[{"$nulls":32},0.9379]
[{"$nulls":32},0.8911]
[{"$nulls":32},0.8823]
[{"$nulls":32},0.8728]
[{"$nulls":32},0.8474]
[{"$nulls":32},0.8422]
[{"$nulls":32},1.024]
[{"$nulls":32},1.013]
[{"$nulls":32},1.004]
{"$rows_empty":7}
["Statistics Individual:","Mean:",{"$f":"AVERAGE(C7:C56)","v":{"v":1.0343722222222222,"d":"1.03"}},{"$f":"AVERAGE(D7:D56)","v":{"v":1.0065666666666666,"d":"1.01"}},{"$f":"AVERAGE(E7:E56)","v":{"$error":"#DIV/0!"}},{"$f":"AVERAGE(F7:F56)","v":{"$error":"#DIV/0!"}},"Statistics Individual:","Mean:",{"$f":"AVERAGE(I7:I56)","v":{"v":0.8888,"d":"0.89"}},{"$f":"AVERAGE(J7:J56)","v":{"v":0.92365,"d":"0.92"}},{"$f":"AVERAGE(K7:K56)","v":{"$error":"#DIV/0!"}},{"$f":"AVERAGE(L7:L56)","v":{"$error":"#DIV/0!"}},"Statistics Individual:","Mean:",{"$f":"AVERAGE(O7:O56)","v":{"v":0.8981333333333333,"d":"0.90"}},{"$f":"AVERAGE(P7:P56)","v":{"v":0.62445,"d":"0.62"}},{"$f":"AVERAGE(Q7:Q56)","v":{"$error":"#DIV/0!"}},{"$f":"AVERAGE(R7:R56)","v":{"$error":"#DIV/0!"}},"Statistics Individual:","Mean:",{"$f":"AVERAGE(U7:U56)","v":{"v":0.805,"d":"0.81"}},{"$f":"AVERAGE(V7:V56)","v":{"v":0.5492,"d":"0.55"}},{"$f":"AVERAGE(W7:W56)","v":{"$error":"#DIV/0!"}},{"$f":"AVERAGE(X7:X56)","v":{"$error":"#DIV/0!"}},"Statistics Individual:","Mean:",{"$f":"AVERAGE(AA7:AA56)","v":{"v":0.930425,"d":"0.93"}},{"$f":"AVERAGE(AB7:AB56)","v":{"v":0.5699666666666666,"d":"0.57"}},{"$f":"AVERAGE(AC7:AC56)","v":{"$error":"#DIV/0!"}},{"$f":"AVERAGE(AD7:AD56)","v":{"$error":"#DIV/0!"}},"Statistics Individual:","Mean:",{"$f":"AVERAGE(AG7:AG56)","v":{"v":0.9444159090909089,"d":"0.94"}},{"$f":"AVERAGE(AH7:AH56)","v":{"v":0.8897,"d":"0.89"}},{"$f":"AVERAGE(AI7:AI56)","v":{"v":0.6237142857142857,"d":"0.62"}},{"$f":"AVERAGE(AJ7:AJ56)","v":{"$error":"#DIV/0!"}},"Statistics Individual:","Mean:",{"$f":"AVERAGE(AM7:AM56)","v":{"v":0.8070666666666666,"d":"0.81"}},{"$f":"AVERAGE(AN7:AN56)","v":{"$error":"#DIV/0!"}},{"$f":"AVERAGE(AO7:AO56)","v":{"$error":"#DIV/0!"}},{"$f":"AVERAGE(AP7:AP56)","v":{"$error":"#DIV/0!"}},"Statistics Individual:","Mean:",{"$f":"AVERAGE(AS7:AS56)","v":{"v":0.9820666666666668,"d":"0.98"}},{"$f":"AVERAGE(AT7:AT56)","v":{"v":0.6916444444444445,"d":"0.69"}},{"$f":"AVERAGE(AU7:AU56)","v":{"v":0.9548,"d":"0.95"}},{"$f":"AVERAGE(AV7:AV56)","v":{"$error":"#DIV/0!"}},"Statistics Individual:","Mean:",{"$f":"AVERAGE(AY7:AY56)","v":{"v":1.1531666666666667,"d":"1.15"}},{"$f":"AVERAGE(AZ7:AZ56)","v":{"$error":"#DIV/0!"}},{"$f":"AVERAGE(BA7:BA56)","v":{"$error":"#DIV/0!"}},{"$f":"AVERAGE(BB7:BB56)","v":{"$error":"#DIV/0!"}},"Statistics Individual:","Mean:",{"$f":"AVERAGE(BE7:BE56)","v":{"v":1.0014,"d":"1.00"}},{"$f":"AVERAGE(BF7:BF56)","v":{"$error":"#DIV/0!"}},{"$f":"AVERAGE(BG7:BG56)","v":{"$error":"#DIV/0!"}},{"$f":"AVERAGE(BH7:BH56)","v":{"$error":"#DIV/0!"}}]
[null,"Max:",{"$f":"MAX(C7:C56)","v":{"v":1.196,"d":"1.20"}},{"$f":"MAX(D7:D56)","v":{"v":1.085,"d":"1.09"}},{"$f":"MAX(E7:E56)","v":{"v":0,"d":"0.00"}},{"$f":"MAX(F7:F56)","v":{"v":0,"d":"0.00"}},null,"Max:",{"$f":"MAX(I7:I56)","v":{"v":0.9984,"d":"1.00"}},{"$f":"MAX(J7:J56)","v":{"v":0.951,"d":"0.95"}},{"$f":"MAX(K7:K56)","v":{"v":0,"d":"0.00"}},{"$f":"MAX(L7:L56)","v":{"v":0,"d":"0.00"}},null,"Max:",{"$f":"MAX(O7:O56)","v":{"v":0.9205,"d":"0.92"}},{"$f":"MAX(P7:P56)","v":{"v":0.6298,"d":"0.63"}},{"$f":"MAX(Q7:Q56)","v":{"v":0,"d":"0.00"}},{"$f":"MAX(R7:R56)","v":{"v":0,"d":"0.00"}},null,"Max:",{"$f":"MAX(U7:U56)","v":{"v":0.805,"d":"0.81"}},{"$f":"MAX(V7:V56)","v":{"v":0.5492,"d":"0.55"}},{"$f":"MAX(W7:W56)","v":{"v":0,"d":"0.00"}},{"$f":"MAX(X7:X56)","v":{"v":0,"d":"0.00"}},null,"Max:",{"$f":"MAX(AA7:AA56)","v":{"v":1.006,"d":"1.01"}},{"$f":"MAX(AB7:AB56)","v":{"v":0.6009,"d":"0.60"}},{"$f":"MAX(AC7:AC56)","v":{"v":0,"d":"0.00"}},{"$f":"MAX(AD7:AD56)","v":{"v":0,"d":"0.00"}},null,"Max:",{"$f":"MAX(AG7:AG56)","v":{"v":1.046,"d":"1.05"}},{"$f":"MAX(AH7:AH56)","v":{"v":0.9608,"d":"0.96"}},{"$f":"MAX(AI7:AI56)","v":{"v":0.6558,"d":"0.66"}},{"$f":"MAX(AJ7:AJ56)","v":{"v":0,"d":"0.00"}},null,"Max:",{"$f":"MAX(AM7:AM56)","v":{"v":0.8389,"d":"0.84"}},{"$f":"MAX(AN7:AN56)","v":{"v":0,"d":"0.00"}},{"$f":"MAX(AO7:AO56)","v":{"v":0,"d":"0.00"}},{"$f":"MAX(AP7:AP56)","v":{"v":0,"d":"0.00"}},null,"Max:",{"$f":"MAX(AS7:AS56)","v":{"v":1.092,"d":"1.09"}},{"$f":"MAX(AT7:AT56)","v":{"v":0.7709,"d":"0.77"}},{"$f":"MAX(AU7:AU56)","v":{"v":1.001,"d":"1.00"}},{"$f":"MAX(AV7:AV56)","v":{"v":0,"d":"0.00"}},null,"Max:",{"$f":"MAX(AY7:AY56)","v":{"v":1.247,"d":"1.25"}},{"$f":"MAX(AZ7:AZ56)","v":{"v":0,"d":"0.00"}},{"$f":"MAX(BA7:BA56)","v":{"v":0,"d":"0.00"}},{"$f":"MAX(BB7:BB56)","v":{"v":0,"d":"0.00"}},null,"Max:",{"$f":"MAX(BE7:BE56)","v":{"v":1.147,"d":"1.15"}},{"$f":"MAX(BF7:BF56)","v":{"v":0,"d":"0.00"}},{"$f":"MAX(BG7:BG56)","v":{"v":0,"d":"0.00"}},{"$f":"MAX(BH7:BH56)","v":{"v":0,"d":"0.00"}}]
[null,"Min:",{"$f":"MIN(C7:C56)","v":{"v":0.8161,"d":"0.82"}},{"$f":"MIN(D7:D56)","v":{"v":0.9385,"d":"0.94"}},{"$f":"MIN(E7:E56)","v":{"v":0,"d":"0.00"}},{"$f":"MIN(F7:F56)","v":{"v":0,"d":"0.00"}},null,"Min:",{"$f":"MIN(I7:I56)","v":{"v":0.8319,"d":"0.83"}},{"$f":"MIN(J7:J56)","v":{"v":0.8963,"d":"0.90"}},{"$f":"MIN(K7:K56)","v":{"v":0,"d":"0.00"}},{"$f":"MIN(L7:L56)","v":{"v":0,"d":"0.00"}},null,"Min:",{"$f":"MIN(O7:O56)","v":{"v":0.8686,"d":"0.87"}},{"$f":"MIN(P7:P56)","v":{"v":0.6191,"d":"0.62"}},{"$f":"MIN(Q7:Q56)","v":{"v":0,"d":"0.00"}},{"$f":"MIN(R7:R56)","v":{"v":0,"d":"0.00"}},null,"Min:",{"$f":"MIN(U7:U56)","v":{"v":0.805,"d":"0.81"}},{"$f":"MIN(V7:V56)","v":{"v":0.5492,"d":"0.55"}},{"$f":"MIN(W7:W56)","v":{"v":0,"d":"0.00"}},{"$f":"MIN(X7:X56)","v":{"v":0,"d":"0.00"}},null,"Min:",{"$f":"MIN(AA7:AA56)","v":{"v":0.8327,"d":"0.83"}},{"$f":"MIN(AB7:AB56)","v":{"v":0.5367,"d":"0.54"}},{"$f":"MIN(AC7:AC56)","v":{"v":0,"d":"0.00"}},{"$f":"MIN(AD7:AD56)","v":{"v":0,"d":"0.00"}},null,"Min:",{"$f":"MIN(AG7:AG56)","v":{"v":0.8422,"d":"0.84"}},{"$f":"MIN(AH7:AH56)","v":{"v":0.8247,"d":"0.82"}},{"$f":"MIN(AI7:AI56)","v":{"v":0.5928,"d":"0.59"}},{"$f":"MIN(AJ7:AJ56)","v":{"v":0,"d":"0.00"}},null,"Min:",{"$f":"MIN(AM7:AM56)","v":{"v":0.7668,"d":"0.77"}},{"$f":"MIN(AN7:AN56)","v":{"v":0,"d":"0.00"}},{"$f":"MIN(AO7:AO56)","v":{"v":0,"d":"0.00"}},{"$f":"MIN(AP7:AP56)","v":{"v":0,"d":"0.00"}},null,"Min:",{"$f":"MIN(AS7:AS56)","v":{"v":0.9162,"d":"0.92"}},{"$f":"MIN(AT7:AT56)","v":{"v":0.5857,"d":"0.59"}},{"$f":"MIN(AU7:AU56)","v":{"v":0.9267,"d":"0.93"}},{"$f":"MIN(AV7:AV56)","v":{"v":0,"d":"0.00"}},null,"Min:",{"$f":"MIN(AY7:AY56)","v":{"v":1.065,"d":"1.07"}},{"$f":"MIN(AZ7:AZ56)","v":{"v":0,"d":"0.00"}},{"$f":"MIN(BA7:BA56)","v":{"v":0,"d":"0.00"}},{"$f":"MIN(BB7:BB56)","v":{"v":0,"d":"0.00"}},null,"Min:",{"$f":"MIN(BE7:BE56)","v":{"v":0.8682,"d":"0.87"}},{"$f":"MIN(BF7:BF56)","v":{"v":0,"d":"0.00"}},{"$f":"MIN(BG7:BG56)","v":{"v":0,"d":"0.00"}},{"$f":"MIN(BH7:BH56)","v":{"v":0,"d":"0.00"}}]
[null,"Stdev:",{"$f":"STDEV(C7:C56)","v":{"v":0.11574122152231289,"d":"0.12"}},{"$f":"STDEV(D7:D56)","v":{"v":0.0737981255407841,"d":"0.07"}},{"$f":"STDEV(E7:E56)","v":{"$error":"#DIV/0!"}},{"$f":"STDEV(F7:F56)","v":{"$error":"#DIV/0!"}},null,"Stdev:",{"$f":"STDEV(I7:I56)","v":{"v":0.05866157174846237,"d":"0.06"}},{"$f":"STDEV(J7:J56)","v":{"v":0.03867874093090413,"d":"0.04"}},{"$f":"STDEV(K7:K56)","v":{"$error":"#DIV/0!"}},{"$f":"STDEV(L7:L56)","v":{"$error":"#DIV/0!"}},null,"Stdev:",{"$f":"STDEV(O7:O56)","v":{"v":0.026681891487174064,"d":"0.03"}},{"$f":"STDEV(P7:P56)","v":{"v":0.007566042558696089,"d":"0.01"}},{"$f":"STDEV(Q7:Q56)","v":{"$error":"#DIV/0!"}},{"$f":"STDEV(R7:R56)","v":{"$error":"#DIV/0!"}},null,"Stdev:",{"$f":"STDEV(U7:U56)","v":{"$error":"#DIV/0!"}},{"$f":"STDEV(V7:V56)","v":{"$error":"#DIV/0!"}},{"$f":"STDEV(W7:W56)","v":{"$error":"#DIV/0!"}},{"$f":"STDEV(X7:X56)","v":{"$error":"#DIV/0!"}},null,"Stdev:",{"$f":"STDEV(AA7:AA56)","v":{"v":0.05711746668051727,"d":"0.06"}},{"$f":"STDEV(AB7:AB56)","v":{"v":0.023938619425522438,"d":"0.02"}},{"$f":"STDEV(AC7:AC56)","v":{"$error":"#DIV/0!"}},{"$f":"STDEV(AD7:AD56)","v":{"$error":"#DIV/0!"}},null,"Stdev:",{"$f":"STDEV(AG7:AG56)","v":{"v":0.055579785279474346,"d":"0.06"}},{"$f":"STDEV(AH7:AH56)","v":{"v":0.06258526184334456,"d":"0.06"}},{"$f":"STDEV(AI7:AI56)","v":{"v":0.024377683002521557,"d":"0.02"}},{"$f":"STDEV(AJ7:AJ56)","v":{"$error":"#DIV/0!"}},null,"Stdev:",{"$f":"STDEV(AM7:AM56)","v":{"v":0.03678237802716582,"d":"0.04"}},{"$f":"STDEV(AN7:AN56)","v":{"$error":"#DIV/0!"}},{"$f":"STDEV(AO7:AO56)","v":{"$error":"#DIV/0!"}},{"$f":"STDEV(AP7:AP56)","v":{"$error":"#DIV/0!"}},null,"Stdev:",{"$f":"STDEV(AS7:AS56)","v":{"v":0.09582699689196851,"d":"0.10"}},{"$f":"STDEV(AT7:AT56)","v":{"v":0.06414144742502915,"d":"0.06"}},{"$f":"STDEV(AU7:AU56)","v":{"v":0.04032158231022186,"d":"0.04"}},{"$f":"STDEV(AV7:AV56)","v":{"$error":"#DIV/0!"}},null,"Stdev:",{"$f":"STDEV(AY7:AY56)","v":{"v":0.07274727944512202,"d":"0.07"}},{"$f":"STDEV(AZ7:AZ56)","v":{"$error":"#DIV/0!"}},{"$f":"STDEV(BA7:BA56)","v":{"$error":"#DIV/0!"}},{"$f":"STDEV(BB7:BB56)","v":{"$error":"#DIV/0!"}},null,"Stdev:",{"$f":"STDEV(BE7:BE56)","v":{"v":0.07638931301469562,"d":"0.08"}},{"$f":"STDEV(BF7:BF56)","v":{"$error":"#DIV/0!"}},{"$f":"STDEV(BG7:BG56)","v":{"$error":"#DIV/0!"}},{"$f":"STDEV(BH7:BH56)","v":{"$error":"#DIV/0!"}}]
{"$rows_empty":17}
["Sorted Combined Measurements "]
[]
["Depth:",{"$f":"B2","v":1175},{"$f":"H2","v":1186.7},{"$f":"N2","v":1196.8},{"$f":"T2","v":1214.6},{"$f":"Z2","v":1232.4},{"$f":"AF2","v":1239.85},{"$f":"AL2","v":1248.6},{"$f":"AR2","v":1270},{"$f":"AX2","v":1279.1},{"$f":"BD2","v":1284.45}]
[1,0.8161,0.8319,0.8686,0.805,0.8327,0.8422,0.7668,0.9162,1.065,0.8682]
[2,0.904,0.8384,0.9053,null,0.866,0.8474,0.8155,0.938,1.068,0.9032]
[3,0.9143,0.8531,0.9205,null,0.9195,0.8499,0.8389,1.092,1.165,0.923]
[4,0.9196,0.8783,null,null,0.9395,0.8578,null,null,1.177,0.926]
[5,0.9337,0.8948,null,null,0.9466,0.8674,null,null,1.197,0.9705]
[6,0.9543,0.9267,null,null,0.9533,0.8728,null,null,1.247,0.9899]
[7,0.9611,0.9984,null,null,0.9798,0.8782,{"$nulls":3},0.9982]
[8,0.9656,{"$nulls":3},1.006,0.8787,{"$nulls":3},1.006]
[9,1.039,{"$nulls":4},0.8823,{"$nulls":3},1.012]
[10,1.068,{"$nulls":4},0.8867,{"$nulls":3},1.014]
[11,1.078,{"$nulls":4},0.8911,{"$nulls":3},1.036]
[12,1.092,{"$nulls":4},0.8993,{"$nulls":3},1.039]
[13,1.112,{"$nulls":4},0.9038,{"$nulls":3},1.086]
[14,1.146,{"$nulls":4},0.9071,{"$nulls":3},1.102]
[15,1.161,{"$nulls":4},0.9093,{"$nulls":3},1.147]
[16,1.178,{"$nulls":4},0.9226]
[17,1.18,{"$nulls":4},0.934]
[18,1.196,{"$nulls":4},0.9379]
[19,{"$nulls":5},0.9387]
[20,{"$nulls":5},0.9482]
[21,{"$nulls":5},0.952]
[22,{"$nulls":5},0.9558]
[23,{"$nulls":5},0.9584]
[24,{"$nulls":5},0.9615]
[25,{"$nulls":5},0.9621]
[26,{"$nulls":5},0.968]
[27,{"$nulls":5},0.9682]
[28,{"$nulls":5},0.9693]
[29,{"$nulls":5},0.9739]
[30,{"$nulls":5},0.9758]
[31,{"$nulls":5},0.9832]
[32,{"$nulls":5},0.9844]
[33,{"$nulls":5},0.9844]
[34,{"$nulls":5},0.9849]
[35,{"$nulls":5},0.9887]
[36,{"$nulls":5},0.993]
[37,{"$nulls":5},0.9941]
[38,{"$nulls":5},0.9942]
[39,{"$nulls":5},1.004]
[40,{"$nulls":5},1.013]
[41,{"$nulls":5},1.024]
[42,{"$nulls":5},1.028]
[43,{"$nulls":5},1.032]
[44,{"$nulls":5},1.046]
[45]
[46]
[47]
[48]
[49]
[50]

{"sheet":"Database","index":1,"n_rows":17,"n_cols":56,"rows_kept":17}
[null,"Company:","Husky Energy"]
[null,"Analyst:","Thomas Gentzis"]
[null,"Vitrinite Reflectance Measurements, Histogram and Images"]
[]
[]
[{"$nulls":6},1,2,3,4,5,6,7,8,9,10,11,12,13,14,15,16,17,18,19,20,21,22,23,24,25,26,27,28,29,30,31,32,33,34,35,36,37,38,39,40,41,42,43,44,45,46,47,48,49,50]
["Plate #","Location","Formation","Depth (m)","Well","Count","VRo Measurements"]
["Plate 1 A-D  ","Canada","Canol",{"v":1175,"d":"1175.00"},"Slater River H-64",{"$f":"COUNT(G8:HB8)","v":50},{"$f":"TRANSPOSE('Data Entry'!B82:B131)","v":0.8161},0.904,0.9143,0.9196,0.9337,0.9543,0.9611,0.9656,1.039,1.068,1.078,1.092,1.112,1.146,1.161,1.178,1.18,1.196,0,0,0,0,0,0,0,0,0,0,0,0,0,0,0,0,0,0,0,0,0,0,0,0,0,0,0,0,0,0,0,0]
["Plate 2 A-D  ","Canada","Canol",{"v":1186.7,"d":"1186.70"},"Slater River H-64",{"$f":"COUNT(G9:BH9)","v":50},{"$f":"TRANSPOSE('Data Entry'!C82:C131)","v":0.8319},0.8384,0.8531,0.8783,0.8948,0.9267,0.9984,0,0,0,0,0,0,0,0,0,0,0,0,0,0,0,0,0,0,0,0,0,0,0,0,0,0,0,0,0,0,0,0,0,0,0,0,0,0,0,0,0,0,0]
["Plate 3 A-D  ","Canada","Canol",{"v":1196.8,"d":"1196.80"},"Slater River H-64",{"$f":"COUNT(G10:BH10)","v":50},{"$f":"TRANSPOSE('Data Entry'!D82:D131)","v":0.8686},0.9053,0.9205,0,0,0,0,0,0,0,0,0,0,0,0,0,0,0,0,0,0,0,0,0,0,0,0,0,0,0,0,0,0,0,0,0,0,0,0,0,0,0,0,0,0,0,0,0,0,0]
["Plate 4 A-D  ","Canada","Canol",{"v":1214.6,"d":"1214.60"},"Slater River H-64",50,{"$f":"TRANSPOSE('Data Entry'!E82:E131)","v":0.805},0,0,0,0,0,0,0,0,0,0,0,0,0,0,0,0,0,0,0,0,0,0,0,0,0,0,0,0,0,0,0,0,0,0,0,0,0,0,0,0,0,0,0,0,0,0,0,0,0]
["Plate 5 A-D  ","Canada","Canol",{"v":1232.4,"d":"1232.40"},"Slater River H-64",50,{"$f":"TRANSPOSE('Data Entry'!F82:F131)","v":0.8327},0.866,0.9195,0.9395,0.9466,0.9533,0.9798,1.006,0,0,0,0,0,0,0,0,0,0,0,0,0,0,0,0,0,0,0,0,0,0,0,0,0,0,0,0,0,0,0,0,0,0,0,0,0,0,0,0,0,0]
["Plate 6 A-D  ","Canada","Canol",1239.85,"Slater River H-64",50,{"$f":"TRANSPOSE('Data Entry'!G82:G131)","v":0.8422},0.8474,0.8499,0.8578,0.8674,0.8728,0.8782,0.8787,0.8823,0.8867,0.8911,0.8993,0.9038,0.9071,0.9093,0.9226,0.934,0.9379,0.9387,0.9482,0.952,0.9558,0.9584,0.9615,0.9621,0.968,0.9682,0.9693,0.9739,0.9758,0.9832,0.9844,0.9844,0.9849,0.9887,0.993,0.9941,0.9942,1.004,1.013,1.024,1.028,1.032,1.046,0,0,0,0,0,0]
["Plate 7 A-D  ","Canada","Canol",{"v":1248.6,"d":"1248.60"},"Slater River H-64",50,{"$f":"TRANSPOSE('Data Entry'!H82:H131)","v":0.7668},0.8155,0.8389,0,0,0,0,0,0,0,0,0,0,0,0,0,0,0,0,0,0,0,0,0,0,0,0,0,0,0,0,0,0,0,0,0,0,0,0,0,0,0,0,0,0,0,0,0,0,0]
["Plate 8 A-D  ","Canada","Canol",{"v":1270,"d":"1270.00"},"Slater River H-64",50,{"$f":"TRANSPOSE('Data Entry'!I82:I131)","v":0.9162},0.938,1.092,0,0,0,0,0,0,0,0,0,0,0,0,0,0,0,0,0,0,0,0,0,0,0,0,0,0,0,0,0,0,0,0,0,0,0,0,0,0,0,0,0,0,0,0,0,0,0]
["Plate 9 A-D  ","Canada","Canol",{"v":1279.1,"d":"1279.10"},"Slater River H-64",50,{"$f":"TRANSPOSE('Data Entry'!J82:J131)","v":1.065},1.068,1.165,1.177,1.197,1.247,0,0,0,0,0,0,0,0,0,0,0,0,0,0,0,0,0,0,0,0,0,0,0,0,0,0,0,0,0,0,0,0,0,0,0,0,0,0,0,0,0,0,0,0]
["Plate 10 A-D  ","Canada","Canol",1284.45,"Slater River H-64",50,{"$f":"TRANSPOSE('Data Entry'!K82:K131)","v":0.8682},0.9032,0.923,0.926,0.9705,0.9899,0.9982,1.006,1.012,1.014,1.036,1.039,1.086,1.102,1.147,0,0,0,0,0,0,0,0,0,0,0,0,0,0,0,0,0,0,0,0,0,0,0,0,0,0,0,0,0,0,0,0,0,0,0]

{"sheet":"Frequency","index":2,"n_rows":32,"n_cols":50,"rows_kept":32,"merged":[[2,0,3,0],[2,1,3,1],[2,2,3,2],[2,3,3,3],[2,4,3,4],[2,5,3,5],[2,6,3,6],[2,7,3,7],[2,8,3,8],[2,9,3,9],[2,10,3,10],[2,11,3,11],[2,12,3,12],[2,13,3,13],[2,14,3,14],[2,15,3,15],[2,16,3,16],[2,17,3,17],[2,18,3,18],[2,19,3,19],[2,20,3,20],[2,21,3,21],[2,22,3,22],[2,23,3,23],[2,24,3,24],[2,25,3,25],[2,26,3,26],[2,27,3,27],[2,28,3,28],[2,29,3,29],[2,30,3,30],[2,31,3,31],[2,32,3,32],[2,33,3,33],[2,34,3,34],[2,35,3,35],[2,36,3,36],[2,37,3,37],[2,38,3,38],[2,39,3,39],[2,40,3,40],[2,41,3,41],[2,42,3,42],[2,43,3,43],[2,44,3,44],[2,45,3,45],[2,46,3,46],[2,47,3,47],[2,48,3,48],[2,49,3,49]]}
["Pellet 1",{"$nulls":4},"Pellet 2",{"$nulls":4},"Pellet 3",{"$nulls":4},"Pellet 4",{"$nulls":4},"Pellet 5",{"$nulls":4},"Pellet 6",{"$nulls":4},"Pellet 7",{"$nulls":4},"Pellet 8",{"$nulls":4},"Pellet 9",{"$nulls":4},"Pellet 10"]
["Depth:",{"v":1175,"d":"1175.0"},{"$nulls":3},"Depth:",{"$f":"'Data Entry'!H2","v":1186.7},{"$nulls":3},"Depth:",{"$f":"'Data Entry'!N2","v":1196.8},{"$nulls":3},"Depth:",{"$f":"'Data Entry'!T2","v":1214.6},{"$nulls":3},"Depth:",{"$f":"'Data Entry'!Z2","v":1232.4},{"$nulls":3},"Depth:",{"$f":"'Data Entry'!AF2","v":1239.85},{"$nulls":3},"Depth:",{"$f":"'Data Entry'!AL2","v":1248.6},{"$nulls":3},"Depth:",{"$f":"'Data Entry'!AR2","v":1270},{"$nulls":3},"Depth:",{"$f":"'Data Entry'!AX2","v":1279.1},{"$nulls":3},"Depth:",{"$f":"'Data Entry'!BD2","v":1284.45}]
["Individual OM Frequencies",{"$f":"'Data Entry'!C6","v":"Kgn"},{"$f":"'Data Entry'!D6","v":"Pbit"},{"$f":"'Data Entry'!E6","v":0},{"$f":"'Data Entry'!F6","v":0},"Individual OM Frequencies",{"$f":"'Data Entry'!I6","v":"Kgn"},{"$f":"'Data Entry'!J6","v":"Pbit"},{"$f":"'Data Entry'!K6","v":0},{"$f":"'Data Entry'!L6","v":0},"Individual OM Frequencies",{"$f":"'Data Entry'!O6","v":"Kgn"},{"$f":"'Data Entry'!P6","v":"Grnl Kgn"},{"$f":"'Data Entry'!Q6","v":0},{"$f":"'Data Entry'!R6","v":0},"Individual OM Frequencies",{"$f":"'Data Entry'!U6","v":"Kgn"},{"$f":"'Data Entry'!V6","v":"Pbit"},{"$f":"'Data Entry'!W6","v":0},{"$f":"'Data Entry'!X6","v":0},"Individual OM Frequencies",{"$f":"'Data Entry'!AA6","v":"Kgn"},{"$f":"'Data Entry'!AB6","v":"Grnl Kgn"},{"$f":"'Data Entry'!AC6","v":0},{"$f":"'Data Entry'!AD6","v":0},"Individual OM Frequencies",{"$f":"'Data Entry'!AG6","v":"Pbit"},{"$f":"'Data Entry'!AH6","v":"Kgn"},{"$f":"'Data Entry'!AI6","v":"Grnl Kgn"},{"$f":"'Data Entry'!AJ6","v":0},"Individual OM Frequencies",{"$f":"'Data Entry'!AM6","v":"Kgn"},{"$f":"'Data Entry'!AN6","v":0},{"$f":"'Data Entry'!AO6","v":0},{"$f":"'Data Entry'!AP6","v":0},"Individual OM Frequencies",{"$f":"'Data Entry'!AS6","v":"Kgn"},{"$f":"'Data Entry'!AT6","v":"Gr"},{"$f":"'Data Entry'!AU6","v":"Pbit"},{"$f":"'Data Entry'!AV6","v":0},"Individual OM Frequencies",{"$f":"'Data Entry'!AY6","v":"Kgn"},{"$f":"'Data Entry'!AZ6","v":0},{"$f":"'Data Entry'!BA6","v":0},{"$f":"'Data Entry'!BB6","v":0},"Individual OM Frequencies",{"$f":"'Data Entry'!BE6","v":"Kgn"},{"$f":"'Data Entry'!BF6","v":0},{"$f":"'Data Entry'!BG6","v":0},{"$f":"'Data Entry'!BH6","v":0}]
[]
["Bins:",{"$nulls":4},"Bins:",{"$nulls":4},"Bins:",{"$nulls":4},"Bins:",{"$nulls":4},"Bins:",{"$nulls":4},"Bins:",{"$nulls":4},"Bins:",{"$nulls":4},"Bins:",{"$nulls":4},"Bins:",{"$nulls":4},"Bins:"]
[0.7,{"$f":"FREQUENCY('Data Entry'!C7:C46,A6:A12)","v":0},{"$f":"FREQUENCY('Data Entry'!D7:D28,A6:A12)","v":0},null,null,0.7,{"$f":"FREQUENCY('Data Entry'!I7:I43,F6:F10)","v":0},{"$f":"FREQUENCY('Data Entry'!J7:J32,F6:F10)","v":0},null,null,0.5,{"$f":"FREQUENCY('Data Entry'!O7:O29,K6:K12)","v":0},{"$f":"FREQUENCY('Data Entry'!P7:P27,K6:K12)","v":0},null,null,0.2,{"$f":"FREQUENCY('Data Entry'!U7:U19,P6:P11)","v":0},{"$f":"FREQUENCY('Data Entry'!V7:V23,P6:P11)","v":0},null,null,0.2,{"$f":"FREQUENCY('Data Entry'!AA7:AA40,U6:U12)","v":0},{"$f":"FREQUENCY('Data Entry'!AB7:AB34,U6:U12)","v":0},null,null,0.4,{"$f":"FREQUENCY('Data Entry'!AG7:AG56,Z6:Z11)","v":0},{"$f":"FREQUENCY('Data Entry'!AH7:AH30,Z6:Z11)","v":0},{"$f":"FREQUENCY('Data Entry'!AI7:AI43,Z6:Z11)","v":0},null,0.6,{"$f":"FREQUENCY('Data Entry'!AM7:AM32,AE6:AE10)","v":0},{"$nulls":3},0.2,{"$f":"FREQUENCY('Data Entry'!AS7:AS36,AJ6:AJ11)","v":0},{"$f":"FREQUENCY('Data Entry'!AT7:AT42,AJ6:AJ11)","v":0},{"$f":"FREQUENCY('Data Entry'!AU7:AU31,AJ6:AJ11)","v":0},null,0.9,{"$f":"FREQUENCY('Data Entry'!AY7:AY39,AO6:AO11)","v":0},{"$nulls":3},0.7,{"$f":"FREQUENCY('Data Entry'!BE7:BE40,AT6:AT12)","v":0}]
[0.8,0,0,null,null,0.8,0,0,null,null,0.6,0,0,null,null,0.4,0,0,null,null,0.4,0,0,null,null,0.6,0,0,2,null,0.7,0,{"$nulls":3},0.4,0,0,0,null,1,0,{"$nulls":3},0.8,0]
[0.9,1,0,null,null,0.9,5,1,null,null,0.7,0,2,null,null,0.6,0,1,null,null,0.6,0,8,null,null,0.8,0,0,5,null,0.8,1,{"$nulls":3},0.6,0,1,0,null,1.1,2,{"$nulls":3},0.9,1]
[1,7,2,null,null,1,2,1,null,null,0.8,0,0,null,null,0.8,0,0,null,null,0.8,0,1,null,null,1,38,5,0,null,0.9,2,{"$nulls":3},0.8,0,8,0,null,1.2,3,{"$nulls":3},1,6]
[1.1,4,1,null,null,1.2,0,0,null,null,0.9,1,0,null,null,1,1,0,null,null,1,7,0,null,null,1.2,6,0,0,null,1,0,{"$nulls":3},1,2,0,2,null,1.3,1,{"$nulls":3},1.1,6]
[1.2,6,0,{"$nulls":7},1,2,0,null,null,1.2,0,0,null,null,1.2,1,0,null,null,1.4,0,0,0,{"$nulls":6},1.2,1,0,1,null,1.4,0,{"$nulls":3},1.2,2]
[1.3,0,0,{"$nulls":7},1.1,0,0,{"$nulls":7},1.4,0,0,{"$nulls":12},1.4,0,0,0,{"$nulls":6},1.3,0]
{"$rows_empty":15}
["Max",{"$f":"'Data Entry'!C59","v":{"v":1.196,"d":"1.20"}},{"$f":"'Data Entry'!D59","v":{"v":1.085,"d":"1.09"}},{"$f":"'Data Entry'!E59","v":{"v":0,"d":"0.00"}},{"$f":"'Data Entry'!F59","v":{"v":0,"d":"0.00"}},"Max",{"$f":"'Data Entry'!I59","v":{"v":0.9984,"d":"1.00"}},{"$f":"'Data Entry'!J59","v":{"v":0.951,"d":"0.95"}},{"$f":"'Data Entry'!K59","v":{"v":0,"d":"0.00"}},{"$f":"'Data Entry'!L59","v":{"v":0,"d":"0.00"}},"Max",{"$f":"'Data Entry'!O59","v":{"v":0.9205,"d":"0.92"}},{"$f":"'Data Entry'!P59","v":{"v":0.6298,"d":"0.63"}},{"$f":"'Data Entry'!Q59","v":{"v":0,"d":"0.00"}},{"$f":"'Data Entry'!R59","v":{"v":0,"d":"0.00"}},"Max",{"$f":"'Data Entry'!U59","v":{"v":0.805,"d":"0.81"}},{"$f":"'Data Entry'!V59","v":{"v":0.5492,"d":"0.55"}},{"$f":"'Data Entry'!W59","v":{"v":0,"d":"0.00"}},{"$f":"'Data Entry'!X59","v":{"v":0,"d":"0.00"}},"Max",{"$f":"'Data Entry'!AA59","v":{"v":1.006,"d":"1.01"}},{"$f":"'Data Entry'!AB59","v":{"v":0.6009,"d":"0.60"}},{"$f":"'Data Entry'!AC59","v":{"v":0,"d":"0.00"}},{"$f":"'Data Entry'!AD59","v":{"v":0,"d":"0.00"}},"Max",{"$f":"'Data Entry'!AG59","v":{"v":1.046,"d":"1.05"}},{"$f":"'Data Entry'!AH59","v":{"v":0.9608,"d":"0.96"}},{"$f":"'Data Entry'!AI59","v":{"v":0.6558,"d":"0.66"}},{"$f":"'Data Entry'!AJ59","v":{"v":0,"d":"0.00"}},"Max",{"$f":"'Data Entry'!AM59","v":{"v":0.8389,"d":"0.84"}},{"$f":"'Data Entry'!AN59","v":{"v":0,"d":"0.00"}},{"$f":"'Data Entry'!AO59","v":{"v":0,"d":"0.00"}},{"$f":"'Data Entry'!AP59","v":{"v":0,"d":"0.00"}},"Max",{"$f":"'Data Entry'!AS59","v":{"v":1.092,"d":"1.09"}},{"$f":"'Data Entry'!AT59","v":{"v":0.7709,"d":"0.77"}},{"$f":"'Data Entry'!AU59","v":{"v":1.001,"d":"1.00"}},{"$f":"'Data Entry'!AV59","v":{"v":0,"d":"0.00"}},"Max",{"$f":"'Data Entry'!AY59","v":{"v":1.247,"d":"1.25"}},{"$f":"'Data Entry'!AZ59","v":{"v":0,"d":"0.00"}},{"$f":"'Data Entry'!BA59","v":{"v":0,"d":"0.00"}},{"$f":"'Data Entry'!BB59","v":{"v":0,"d":"0.00"}},"Max",{"$f":"'Data Entry'!BE59","v":{"v":1.147,"d":"1.15"}},{"$f":"'Data Entry'!BF59","v":{"v":0,"d":"0.00"}},{"$f":"'Data Entry'!BG59","v":{"v":0,"d":"0.00"}},{"$f":"'Data Entry'!BH59","v":{"v":0,"d":"0.00"}}]
["Min",{"$f":"'Data Entry'!C60","v":{"v":0.8161,"d":"0.82"}},{"$f":"'Data Entry'!D60","v":{"v":0.9385,"d":"0.94"}},{"$f":"'Data Entry'!E60","v":{"v":0,"d":"0.00"}},{"$f":"'Data Entry'!F60","v":{"v":0,"d":"0.00"}},"Min",{"$f":"'Data Entry'!I60","v":{"v":0.8319,"d":"0.83"}},{"$f":"'Data Entry'!J60","v":{"v":0.8963,"d":"0.90"}},{"$f":"'Data Entry'!K60","v":{"v":0,"d":"0.00"}},{"$f":"'Data Entry'!L60","v":{"v":0,"d":"0.00"}},"Min",{"$f":"'Data Entry'!O60","v":{"v":0.8686,"d":"0.87"}},{"$f":"'Data Entry'!P60","v":{"v":0.6191,"d":"0.62"}},{"$f":"'Data Entry'!Q60","v":{"v":0,"d":"0.00"}},{"$f":"'Data Entry'!R60","v":{"v":0,"d":"0.00"}},"Min",{"$f":"'Data Entry'!U60","v":{"v":0.805,"d":"0.81"}},{"$f":"'Data Entry'!V60","v":{"v":0.5492,"d":"0.55"}},{"$f":"'Data Entry'!W60","v":{"v":0,"d":"0.00"}},{"$f":"'Data Entry'!X60","v":{"v":0,"d":"0.00"}},"Min",{"$f":"'Data Entry'!AA60","v":{"v":0.8327,"d":"0.83"}},{"$f":"'Data Entry'!AB60","v":{"v":0.5367,"d":"0.54"}},{"$f":"'Data Entry'!AC60","v":{"v":0,"d":"0.00"}},{"$f":"'Data Entry'!AD60","v":{"v":0,"d":"0.00"}},"Min",{"$f":"'Data Entry'!AG60","v":{"v":0.8422,"d":"0.84"}},{"$f":"'Data Entry'!AH60","v":{"v":0.8247,"d":"0.82"}},{"$f":"'Data Entry'!AI60","v":{"v":0.5928,"d":"0.59"}},{"$f":"'Data Entry'!AJ60","v":{"v":0,"d":"0.00"}},"Min",{"$f":"'Data Entry'!AM60","v":{"v":0.7668,"d":"0.77"}},{"$f":"'Data Entry'!AN60","v":{"v":0,"d":"0.00"}},{"$f":"'Data Entry'!AO60","v":{"v":0,"d":"0.00"}},{"$f":"'Data Entry'!AP60","v":{"v":0,"d":"0.00"}},"Min",{"$f":"'Data Entry'!AS60","v":{"v":0.9162,"d":"0.92"}},{"$f":"'Data Entry'!AT60","v":{"v":0.5857,"d":"0.59"}},{"$f":"'Data Entry'!AU60","v":{"v":0.9267,"d":"0.93"}},{"$f":"'Data Entry'!AV60","v":{"v":0,"d":"0.00"}},"Min",{"$f":"'Data Entry'!AY60","v":{"v":1.065,"d":"1.07"}},{"$f":"'Data Entry'!AZ60","v":{"v":0,"d":"0.00"}},{"$f":"'Data Entry'!BA60","v":{"v":0,"d":"0.00"}},{"$f":"'Data Entry'!BB60","v":{"v":0,"d":"0.00"}},"Min",{"$f":"'Data Entry'!BE60","v":{"v":0.8682,"d":"0.87"}},{"$f":"'Data Entry'!BF60","v":{"v":0,"d":"0.00"}},{"$f":"'Data Entry'!BG60","v":{"v":0,"d":"0.00"}},{"$f":"'Data Entry'!BH60","v":{"v":0,"d":"0.00"}}]
["Sum Data Entry",{"$f":"COUNT('Data Entry'!C7:C56)","v":18},{"$f":"COUNT('Data Entry'!D7:D56)","v":3},{"$f":"COUNT('Data Entry'!E7:E56)","v":0},{"$f":"COUNT('Data Entry'!F7:F56)","v":0},"Sum Data Entry",{"$f":"COUNT('Data Entry'!I7:I56)","v":7},{"$f":"COUNT('Data Entry'!J7:J56)","v":2},{"$f":"COUNT('Data Entry'!K7:K56)","v":0},{"$f":"COUNT('Data Entry'!L7:L56)","v":0},"Sum Data Entry",{"$f":"COUNT('Data Entry'!O7:O56)","v":3},{"$f":"COUNT('Data Entry'!P7:P56)","v":2},{"$f":"COUNT('Data Entry'!Q7:Q56)","v":0},{"$f":"COUNT('Data Entry'!R7:R56)","v":0},"Sum Data Entry",{"$f":"COUNT('Data Entry'!U7:U56)","v":1},{"$f":"COUNT('Data Entry'!V7:V56)","v":1},{"$f":"COUNT('Data Entry'!W7:W56)","v":0},{"$f":"COUNT('Data Entry'!X7:X56)","v":0},"Sum Data Entry",{"$f":"COUNT('Data Entry'!AA7:AA56)","v":8},{"$f":"COUNT('Data Entry'!AB7:AB56)","v":9},{"$f":"COUNT('Data Entry'!AC7:AC56)","v":0},{"$f":"COUNT('Data Entry'!AD7:AD56)","v":0},"Sum Data Entry",{"$f":"COUNT('Data Entry'!AG7:AG56)","v":44},{"$f":"COUNT('Data Entry'!AH7:AH56)","v":5},{"$f":"COUNT('Data Entry'!AI7:AI56)","v":7},{"$f":"COUNT('Data Entry'!AJ7:AJ56)","v":0},"Sum Data Entry",{"$f":"COUNT('Data Entry'!AM7:AM56)","v":3},{"$f":"COUNT('Data Entry'!AN7:AN56)","v":0},{"$f":"COUNT('Data Entry'!AO7:AO56)","v":0},{"$f":"COUNT('Data Entry'!AP7:AP56)","v":0},"Sum Data Entry",{"$f":"COUNT('Data Entry'!AS7:AS56)","v":3},{"$f":"COUNT('Data Entry'!AT7:AT56)","v":9},{"$f":"COUNT('Data Entry'!AU7:AU56)","v":3},{"$f":"COUNT('Data Entry'!AV7:AV56)","v":0},"Sum Data Entry",{"$f":"COUNT('Data Entry'!AY7:AY56)","v":6},{"$f":"COUNT('Data Entry'!AZ7:AZ56)","v":0},{"$f":"COUNT('Data Entry'!BA7:BA56)","v":0},{"$f":"COUNT('Data Entry'!BB7:BB56)","v":0},"Sum Data Entry",{"$f":"COUNT('Data Entry'!BE7:BE56)","v":15},{"$f":"COUNT('Data Entry'!BF7:BF56)","v":0},{"$f":"COUNT('Data Entry'!BG7:BG56)","v":0},{"$f":"COUNT('Data Entry'!BH7:BH56)","v":0}]
["Sum Frequency",{"$f":"SUM(B6:B26)","v":18},{"$f":"SUM(C6:C26)","v":3},{"$f":"SUM(D6:D26)","v":0},{"$f":"SUM(E6:E26)","v":0},"Sum Frequency",{"$f":"SUM(G6:G26)","v":7},{"$f":"SUM(H6:H26)","v":2},0,0,"Sum Frequency",3,2,0,0,"Sum Frequency",1,1,0,0,"Sum Frequency",{"$f":"SUM(V6:V26)","v":8},{"$f":"SUM(W6:W26)","v":9},0,0,"Sum Frequency",44,5,7,0,"Sum Frequency",3,0,0,0,"Sum Frequency",3,9,3,0,"Sum Frequency",6,0,0,0,"Sum Frequency",15,0,0,0]
["Confirm",{"$f":"IF(B30<>B31,FALSE,TRUE)","v":true},{"$f":"IF(C30<>C31,FALSE,TRUE)","v":true},{"$f":"IF(D30<>D31,FALSE,TRUE)","v":true},{"$f":"IF(E30<>E31,FALSE,TRUE)","v":true},"Confirm",{"$f":"IF(G30<>G31,FALSE,TRUE)","v":true},{"$f":"IF(H30<>H31,FALSE,TRUE)","v":true},{"$f":"IF(I30<>I31,FALSE,TRUE)","v":true},{"$f":"IF(J30<>J31,FALSE,TRUE)","v":true},"Confirm",{"$f":"IF(L30<>L31,FALSE,TRUE)","v":true},{"$f":"IF(M30<>M31,FALSE,TRUE)","v":true},{"$f":"IF(N30<>N31,FALSE,TRUE)","v":true},{"$f":"IF(O30<>O31,FALSE,TRUE)","v":true},"Confirm",{"$f":"IF(Q30<>Q31,FALSE,TRUE)","v":true},{"$f":"IF(R30<>R31,FALSE,TRUE)","v":true},{"$f":"IF(S30<>S31,FALSE,TRUE)","v":true},{"$f":"IF(T30<>T31,FALSE,TRUE)","v":true},"Confirm",{"$f":"IF(V30<>V31,FALSE,TRUE)","v":true},{"$f":"IF(W30<>W31,FALSE,TRUE)","v":true},{"$f":"IF(X30<>X31,FALSE,TRUE)","v":true},{"$f":"IF(Y30<>Y31,FALSE,TRUE)","v":true},"Confirm",{"$f":"IF(AA30<>AA31,FALSE,TRUE)","v":true},{"$f":"IF(AB30<>AB31,FALSE,TRUE)","v":true},{"$f":"IF(AC30<>AC31,FALSE,TRUE)","v":true},{"$f":"IF(AD30<>AD31,FALSE,TRUE)","v":true},"Confirm",{"$f":"IF(AF30<>AF31,FALSE,TRUE)","v":true},{"$f":"IF(AG30<>AG31,FALSE,TRUE)","v":true},{"$f":"IF(AH30<>AH31,FALSE,TRUE)","v":true},{"$f":"IF(AI30<>AI31,FALSE,TRUE)","v":true},"Confirm",{"$f":"IF(AK30<>AK31,FALSE,TRUE)","v":true},{"$f":"IF(AL30<>AL31,FALSE,TRUE)","v":true},{"$f":"IF(AM30<>AM31,FALSE,TRUE)","v":true},{"$f":"IF(AN30<>AN31,FALSE,TRUE)","v":true},"Confirm",{"$f":"IF(AP30<>AP31,FALSE,TRUE)","v":true},{"$f":"IF(AQ30<>AQ31,FALSE,TRUE)","v":true},{"$f":"IF(AR30<>AR31,FALSE,TRUE)","v":true},{"$f":"IF(AS30<>AS31,FALSE,TRUE)","v":true},"Confirm",{"$f":"IF(AU30<>AU31,FALSE,TRUE)","v":true},{"$f":"IF(AV30<>AV31,FALSE,TRUE)","v":true},{"$f":"IF(AW30<>AW31,FALSE,TRUE)","v":true},{"$f":"IF(AX30<>AX31,FALSE,TRUE)","v":true}]

{"sheet":"Pellet 1","index":3,"n_rows":12,"n_cols":19,"rows_kept":12,"merged":[[7,4,11,7]]}
[]
[null,{"$f":"Database!A8","v":"Plate 1 A-D  "},{"$f":"Database!B3","v":"Vitrinite Reflectance Measurements, Histogram and Images"}]
[]
["Company:",{"$f":"Database!C1","v":"Husky Energy"}]
["Formation",{"$f":"Database!C8","v":"Canol"},{"$nulls":7},"List of Ro Values in Increasing Order:"]
["Location:",{"$f":"Database!B8","v":"Canada"},{"$nulls":7},{"$f":"Database!G8","v":{"v":0.8161,"d":"0.82"}},{"$f":"Database!H8","v":{"v":0.904,"d":"0.90"}},{"$f":"Database!I8","v":{"v":0.9143,"d":"0.91"}},{"$f":"Database!J8","v":{"v":0.9196,"d":"0.92"}},{"$f":"Database!K8","v":{"v":0.9337,"d":"0.93"}},{"$f":"Database!L8","v":{"v":0.9543,"d":"0.95"}},{"$f":"Database!M8","v":{"v":0.9611,"d":"0.96"}},{"$f":"Database!N8","v":{"v":0.9656,"d":"0.97"}},{"$f":"Database!O8","v":{"v":1.039,"d":"1.04"}},{"$f":"Database!P8","v":{"v":1.068,"d":"1.07"}}]
["Depth (m):",{"$f":"Database!D8","v":{"v":1175,"d":"1175.00"}},null,null,"Well:",{"$f":"Database!E8","v":"Slater River H-64"},{"$nulls":3},{"$f":"Database!Q8","v":{"v":1.078,"d":"1.08"}},{"$f":"Database!R8","v":{"v":1.092,"d":"1.09"}},{"$f":"Database!S8","v":{"v":1.112,"d":"1.11"}},{"$f":"Database!T8","v":{"v":1.146,"d":"1.15"}},{"$f":"Database!U8","v":{"v":1.161,"d":"1.16"}},{"$f":"Database!V8","v":{"v":1.178,"d":"1.18"}},{"$f":"Database!W8","v":1.18},{"$f":"Database!X8","v":{"v":1.196,"d":"1.20"}}]
["Min Value",null,{"$f":"MIN(J6:S10)","v":{"v":0.8161,"d":"0.82"}},null,"The mean Ro,ran of the primary kerogen is 1.03% based on 18 measurements. The organic matter is mature and in the early upper stage of the oil window."]
["Max Value",null,{"$f":"MAX(J6:S10)","v":{"v":1.196,"d":"1.20"}}]
["Mean Value",null,{"$f":"AVERAGE(J6:S10)","v":{"v":1.0343722222222222,"d":"1.03"}}]
["# of Measurements",null,{"$f":"COUNT(J6:S10)","v":18},{"$nulls":11},"    10 micrometers"]
["Strd Deviation",null,{"$f":"STDEV(J6:S10)","v":{"v":0.11574122152231199,"d":"0.12"}}]

{"sheet":"Pellet 2","index":4,"n_rows":12,"n_cols":16,"rows_kept":12,"merged":[[7,4,11,7]]}
[]
[null,{"$f":"Database!A9","v":"Plate 2 A-D  "},{"$f":"Database!B3","v":"Vitrinite Reflectance Measurements, Histogram and Images"}]
[]
["Company:",{"$f":"Database!C1","v":"Husky Energy"}]
["Formation",{"$f":"Database!C9","v":"Canol"},{"$nulls":7},"List of Ro Values in Increasing Order:"]
["Location:",{"$f":"Database!B9","v":"Canada"},{"$nulls":7},{"$f":"Database!G9","v":{"v":0.8319,"d":"0.83"}},{"$f":"Database!H9","v":{"v":0.8384,"d":"0.84"}},{"$f":"Database!I9","v":{"v":0.8531,"d":"0.85"}},{"$f":"Database!J9","v":{"v":0.8783,"d":"0.88"}},{"$f":"Database!K9","v":{"v":0.8948,"d":"0.89"}},{"$f":"Database!L9","v":{"v":0.9267,"d":"0.93"}},{"$f":"Database!M9","v":{"v":0.9984,"d":"1.00"}}]
["Depth (m):",{"$f":"Database!D9","v":{"v":1186.7,"d":"1186.70"}},null,null,"Well:",{"$f":"Database!E9","v":"Slater River H-64"}]
["Min Value",null,{"$f":"MIN(J6:S10)","v":{"v":0.8319,"d":"0.83"}},null,"The mean Ro,ran of the primary kerogen is 0.89% based on 7 measurements. The organic matter is mature and in the middle stage of the oil window."]
["Max Value",null,{"$f":"MAX(J6:S10)","v":{"v":0.9984,"d":"1.00"}}]
["Mean Value",null,{"$f":"AVERAGE(J6:S10)","v":{"v":0.8888,"d":"0.89"}}]
["# of Measurements",null,{"$f":"COUNT(J6:S10)","v":7},{"$nulls":11},"    10 micrometers"]
["Strd Deviation",null,{"$f":"STDEV(J6:S10)","v":{"v":0.05866157174846237,"d":"0.06"}}]

{"sheet":"Pellet 3","index":5,"n_rows":12,"n_cols":15,"rows_kept":12,"merged":[[7,4,11,7]]}
[]
[null,{"$f":"Database!A10","v":"Plate 3 A-D  "},{"$f":"Database!B3","v":"Vitrinite Reflectance Measurements, Histogram and Images"}]
[]
["Company:",{"$f":"Database!C1","v":"Husky Energy"}]
["Formation",{"$f":"Database!C10","v":"Canol"},{"$nulls":7},"List of Ro Values in Increasing Order:"]
["Location:",{"$f":"Database!B10","v":"Canada"},{"$nulls":7},{"$f":"Database!G10","v":{"v":0.8686,"d":"0.87"}},{"$f":"Database!H10","v":{"v":0.9053,"d":"0.91"}},{"$f":"Database!I10","v":{"v":0.9205,"d":"0.92"}}]
["Depth (m):",{"$f":"Database!D10","v":{"v":1196.8,"d":"1196.80"}},null,null,"Well:",{"$f":"Database!E10","v":"Slater River H-64"}]
["Min Value",null,{"$f":"MIN(J6:S10)","v":{"v":0.8686,"d":"0.87"}},null,"The mean Ro,ran of the primary kerogen is 0.90% based on 3 measurements. The organic matter is mature and in the middle stage of the oil window."]
["Max Value",null,{"$f":"MAX(J6:S10)","v":{"v":0.9205,"d":"0.92"}}]
["Mean Value",null,{"$f":"AVERAGE(J6:S10)","v":{"v":0.8981333333333333,"d":"0.90"}}]
["# of Measurements",null,{"$f":"COUNT(J6:S10)","v":3},{"$nulls":11},"    10 micrometers"]
["Strd Deviation",null,{"$f":"STDEV(J6:S10)","v":{"v":0.026681891487174064,"d":"0.03"}}]

{"sheet":"Pellet 4","index":6,"n_rows":12,"n_cols":15,"rows_kept":12,"merged":[[7,4,11,7]]}
[]
[null,{"$f":"Database!A11","v":"Plate 4 A-D  "},{"$f":"Database!B3","v":"Vitrinite Reflectance Measurements, Histogram and Images"}]
[]
["Company:",{"$f":"Database!C1","v":"Husky Energy"}]
["Formation",{"$f":"Database!C11","v":"Canol"},{"$nulls":7},"List of Ro Values in Increasing Order:"]
["Location:",{"$f":"Database!B11","v":"Canada"},{"$nulls":7},{"$f":"Database!G11","v":{"v":0.805,"d":"0.81"}}]
["Depth (m):",{"$f":"Database!D11","v":{"v":1214.6,"d":"1214.60"}},null,null,"Well:",{"$f":"Database!E11","v":"Slater River H-64"}]
["Min Value",null,{"$f":"MIN(J6:S10)","v":{"v":0.805,"d":"0.81"}},null,"The mean Ro,ran of the primary kerogen (vitrinitic) is 0.81% based on 1 measurement. The organic matter is mature and in the middle stage of the oil window."]
["Max Value",null,{"$f":"MAX(J6:S10)","v":{"v":0.805,"d":"0.81"}}]
["Mean Value",null,{"$f":"AVERAGE(J6:S10)","v":{"v":0.805,"d":"0.81"}}]
["# of Measurements",null,{"$f":"COUNT(J6:S10)","v":1},{"$nulls":11},"    10 micrometers"]
["Strd Deviation",null,"N/A"]

{"sheet":"Pellet 5","index":7,"n_rows":12,"n_cols":17,"rows_kept":12,"merged":[[7,4,11,7]]}
[]
[null,{"$f":"Database!A12","v":"Plate 5 A-D  "},{"$f":"Database!B3","v":"Vitrinite Reflectance Measurements, Histogram and Images"}]
[]
["Company:",{"$f":"Database!C1","v":"Husky Energy"}]
["Formation",{"$f":"Database!C12","v":"Canol"},{"$nulls":7},"List of Ro Values in Increasing Order:"]
["Location:",{"$f":"Database!B12","v":"Canada"},{"$nulls":7},{"$f":"Database!G12","v":{"v":0.8327,"d":"0.83"}},{"$f":"Database!H12","v":{"v":0.866,"d":"0.87"}},{"$f":"Database!I12","v":{"v":0.9195,"d":"0.92"}},{"$f":"Database!J12","v":{"v":0.9395,"d":"0.94"}},{"$f":"Database!K12","v":{"v":0.9466,"d":"0.95"}},{"$f":"Database!L12","v":{"v":0.9533,"d":"0.95"}},{"$f":"Database!M12","v":{"v":0.9798,"d":"0.98"}},{"$f":"Database!N12","v":{"v":1.006,"d":"1.01"}}]
["Depth (m):",{"$f":"Database!D12","v":{"v":1232.4,"d":"1232.40"}},null,null,"Well:",{"$f":"Database!E12","v":"Slater River H-64"}]
["Min Value",null,{"$f":"MIN(J6:S10)","v":{"v":0.8327,"d":"0.83"}},null,"The mean Ro,ran of the primary kerogen is 0.93% based on 8 measurements. The organic matter is mature and in the middle stage of the oil window."]
["Max Value",null,{"$f":"MAX(J6:S10)","v":{"v":1.006,"d":"1.01"}}]
["Mean Value",null,{"$f":"AVERAGE(J6:S10)","v":{"v":0.930425,"d":"0.93"}}]
["# of Measurements",null,{"$f":"COUNT(J6:S10)","v":8},{"$nulls":11},"    10 micrometers"]
["Strd Deviation",null,{"$f":"STDEV(J6:S10)","v":{"v":0.05711746668051727,"d":"0.06"}}]

{"sheet":"Pellet 6","index":8,"n_rows":12,"n_cols":19,"rows_kept":12,"merged":[[7,4,11,7]]}
[]
[null,{"$f":"Database!A13","v":"Plate 6 A-D  "},{"$f":"Database!B3","v":"Vitrinite Reflectance Measurements, Histogram and Images"}]
[]
["Company:",{"$f":"Database!C1","v":"Husky Energy"}]
["Formation",{"$f":"Database!C13","v":"Canol"},{"$nulls":7},"List of Ro Values in Increasing Order:"]
["Location:",{"$f":"Database!B13","v":"Canada"},{"$nulls":7},{"$f":"Database!G13","v":{"v":0.8422,"d":"0.84"}},{"$f":"Database!H13","v":{"v":0.8474,"d":"0.85"}},{"$f":"Database!I13","v":{"v":0.8499,"d":"0.85"}},{"$f":"Database!J13","v":{"v":0.8578,"d":"0.86"}},{"$f":"Database!K13","v":{"v":0.8674,"d":"0.87"}},{"$f":"Database!L13","v":{"v":0.8728,"d":"0.87"}},{"$f":"Database!M13","v":{"v":0.8782,"d":"0.88"}},{"$f":"Database!N13","v":{"v":0.8787,"d":"0.88"}},{"$f":"Database!O13","v":{"v":0.8823,"d":"0.88"}},{"$f":"Database!P13","v":{"v":0.8867,"d":"0.89"}}]
["Depth (m):",{"$f":"Database!D13","v":1239.85},null,null,"Well:",{"$f":"Database!E13","v":"Slater River H-64"},{"$nulls":3},{"$f":"Database!Q13","v":{"v":0.8911,"d":"0.89"}},{"$f":"Database!R13","v":{"v":0.8993,"d":"0.90"}},{"$f":"Database!S13","v":{"v":0.9038,"d":"0.90"}},{"$f":"Database!T13","v":{"v":0.9071,"d":"0.91"}},{"$f":"Database!U13","v":{"v":0.9093,"d":"0.91"}},{"$f":"Database!V13","v":{"v":0.9226,"d":"0.92"}},{"$f":"Database!W13","v":{"v":0.934,"d":"0.93"}},{"$f":"Database!X13","v":{"v":0.9379,"d":"0.94"}},{"$f":"Database!Y13","v":{"v":0.9387,"d":"0.94"}},{"$f":"Database!Z13","v":{"v":0.9482,"d":"0.95"}}]
["Min Value",null,{"$f":"MIN(J6:S10)","v":{"v":0.8422,"d":"0.84"}},null,"The mean Ro,ran of pyrobitumen is 0.94% based on 44 measurements. VRo-eq is 0.98% using the Jacob formula. The organic matter is mature and in the middle stage of the oil window.",{"$nulls":4},{"$f":"Database!AA13","v":{"v":0.952,"d":"0.95"}},{"$f":"Database!AB13","v":{"v":0.9558,"d":"0.96"}},{"$f":"Database!AC13","v":{"v":0.9584,"d":"0.96"}},{"$f":"Database!AD13","v":{"v":0.9615,"d":"0.96"}},{"$f":"Database!AE13","v":{"v":0.9621,"d":"0.96"}},{"$f":"Database!AF13","v":{"v":0.968,"d":"0.97"}},{"$f":"Database!AG13","v":{"v":0.9682,"d":"0.97"}},{"$f":"Database!AH13","v":{"v":0.9693,"d":"0.97"}},{"$f":"Database!AI13","v":{"v":0.9739,"d":"0.97"}},{"$f":"Database!AJ13","v":{"v":0.9758,"d":"0.98"}}]
["Max Value",null,{"$f":"MAX(J6:S10)","v":{"v":1.046,"d":"1.05"}},{"$nulls":6},{"$f":"Database!AK13","v":{"v":0.9832,"d":"0.98"}},{"$f":"Database!AL13","v":{"v":0.9844,"d":"0.98"}},{"$f":"Database!AM13","v":{"v":0.9844,"d":"0.98"}},{"$f":"Database!AN13","v":{"v":0.9849,"d":"0.98"}},{"$f":"Database!AO13","v":{"v":0.9887,"d":"0.99"}},{"$f":"Database!AP13","v":{"v":0.993,"d":"0.99"}},{"$f":"Database!AQ13","v":{"v":0.9941,"d":"0.99"}},{"$f":"Database!AR13","v":{"v":0.9942,"d":"0.99"}},{"$f":"Database!AS13","v":{"v":1.004,"d":"1.00"}},{"$f":"Database!AT13","v":{"v":1.013,"d":"1.01"}}]
["Mean Value",null,{"$f":"AVERAGE(J6:S10)","v":{"v":0.9444159090909092,"d":"0.94"}},{"$nulls":6},{"$f":"Database!AU13","v":{"v":1.024,"d":"1.02"}},{"$f":"Database!AV13","v":{"v":1.028,"d":"1.03"}},{"$f":"Database!AW13","v":{"v":1.032,"d":"1.03"}},{"$f":"Database!AX13","v":{"v":1.046,"d":"1.05"}}]
["# of Measurements",null,{"$f":"COUNT(J6:S10)","v":44},{"$nulls":6},"The above values were measured on bitumen",{"$nulls":4},"    10 micrometers"]
["Strd Deviation",null,{"$f":"STDEV(J6:S10)","v":{"v":0.05557978527947435,"d":"0.06"}}]

{"sheet":"Pellet 7","index":9,"n_rows":12,"n_cols":15,"rows_kept":12,"merged":[[7,4,11,7]]}
[]
[null,{"$f":"Database!A14","v":"Plate 7 A-D  "},{"$f":"Database!B3","v":"Vitrinite Reflectance Measurements, Histogram and Images"}]
[]
["Company:",{"$f":"Database!C1","v":"Husky Energy"}]
["Formation",{"$f":"Database!C14","v":"Canol"},{"$nulls":7},"List of Ro Values in Increasing Order:"]
["Location:",{"$f":"Database!B14","v":"Canada"},{"$nulls":7},{"$f":"Database!G14","v":{"v":0.7668,"d":"0.77"}},{"$f":"Database!H14","v":{"v":0.8155,"d":"0.82"}},{"$f":"Database!I14","v":{"v":0.8389,"d":"0.84"}}]
["Depth (m):",{"$f":"Database!D14","v":{"v":1248.6,"d":"1248.60"}},null,null,"Well:",{"$f":"Database!E14","v":"Slater River H-64"}]
["Min Value",null,{"$f":"MIN(J6:S10)","v":{"v":0.7668,"d":"0.77"}},null,"The mean Ro,ran of the primary kerogen (vitrinitic) is 0.81% based on 3 measurements. The organic matter is mature and in the middle stage of the oil window."]
["Max Value",null,{"$f":"MAX(J6:S10)","v":{"v":0.8389,"d":"0.84"}}]
["Mean Value",null,{"$f":"AVERAGE(J6:S10)","v":{"v":0.8070666666666666,"d":"0.81"}}]
["# of Measurements",null,{"$f":"COUNT(J6:S10)","v":3},{"$nulls":11},"    10 micrometers"]
["Strd Deviation",null,{"$f":"STDEV(J6:S10)","v":{"v":0.03678237802716582,"d":"0.04"}}]

{"sheet":"Pellet 8","index":10,"n_rows":12,"n_cols":15,"rows_kept":12,"merged":[[7,4,11,7]]}
[]
[null,{"$f":"Database!A15","v":"Plate 8 A-D  "},{"$f":"Database!B3","v":"Vitrinite Reflectance Measurements, Histogram and Images"}]
[]
["Company:",{"$f":"Database!C1","v":"Husky Energy"}]
["Formation",{"$f":"Database!C15","v":"Canol"},{"$nulls":7},"List of Ro Values in Increasing Order:"]
["Location:",{"$f":"Database!B15","v":"Canada"},{"$nulls":7},{"$f":"Database!G15","v":{"v":0.9162,"d":"0.92"}},{"$f":"Database!H15","v":{"v":0.938,"d":"0.94"}},{"$f":"Database!I15","v":{"v":1.092,"d":"1.09"}}]
["Depth (m):",{"$f":"Database!D15","v":{"v":1270,"d":"1270.00"}},null,null,"Well:",{"$f":"Database!E15","v":"Slater River H-64"}]
["Min Value",null,{"$f":"MIN(J6:S10)","v":{"v":0.9162,"d":"0.92"}},null,"The mean Ro,ran of the primary kerogen is 0.98% based on 3 measurements. The organic matter is mature and in the middle stage of the oil window."]
["Max Value",null,{"$f":"MAX(J6:S10)","v":{"v":1.092,"d":"1.09"}}]
["Mean Value",null,{"$f":"AVERAGE(J6:S10)","v":{"v":0.9820666666666668,"d":"0.98"}}]
["# of Measurements",null,{"$f":"COUNT(J6:S10)","v":3},{"$nulls":11},"    10 micrometers"]
["Strd Deviation",null,{"$f":"STDEV(J6:S10)","v":{"v":0.09582699689196851,"d":"0.10"}}]

{"sheet":"Pellet 9","index":11,"n_rows":12,"n_cols":15,"rows_kept":12,"merged":[[7,4,11,7]]}
[]
[null,{"$f":"Database!A16","v":"Plate 9 A-D  "},{"$f":"Database!B3","v":"Vitrinite Reflectance Measurements, Histogram and Images"}]
[]
["Company:",{"$f":"Database!C1","v":"Husky Energy"}]
["Formation",{"$f":"Database!C16","v":"Canol"},{"$nulls":7},"List of Ro Values in Increasing Order:"]
["Location:",{"$f":"Database!B16","v":"Canada"},{"$nulls":7},{"$f":"Database!G16","v":{"v":1.065,"d":"1.07"}},{"$f":"Database!H16","v":{"v":1.068,"d":"1.07"}},{"$f":"Database!I16","v":{"v":1.165,"d":"1.17"}},{"$f":"Database!J16","v":{"v":1.177,"d":"1.18"}},{"$f":"Database!K16","v":{"v":1.197,"d":"1.20"}},{"$f":"Database!L16","v":{"v":1.247,"d":"1.25"}}]
["Depth (m):",{"$f":"Database!D16","v":{"v":1279.1,"d":"1279.10"}},null,null,"Well:",{"$f":"Database!E16","v":"Slater River H-64"}]
["Min Value",null,{"$f":"MIN(J6:S10)","v":{"v":1.065,"d":"1.07"}},null,"The mean Ro,ran of the primary kerogen is 1.15% based on 6 measurements. The organic matter is mature and in the upper stage of the oil window."]
["Max Value",null,{"$f":"MAX(J6:S10)","v":{"v":1.247,"d":"1.25"}}]
["Mean Value",null,{"$f":"AVERAGE(J6:S10)","v":{"v":1.1531666666666667,"d":"1.15"}}]
["# of Measurements",null,{"$f":"COUNT(J6:S10)","v":6},{"$nulls":11},"    10 micrometers"]
["Strd Deviation",null,{"$f":"STDEV(J6:S10)","v":{"v":0.07274727944512202,"d":"0.07"}}]

{"sheet":"Pellet 10","index":12,"n_rows":12,"n_cols":19,"rows_kept":12,"merged":[[7,4,11,7]]}
[]
[{"$f":"Database!A17","v":"Plate 10 A-D  "},null,{"$f":"Database!B3","v":"Vitrinite Reflectance Measurements, Histogram and Images"}]
[]
["Company:",{"$f":"Database!C1","v":"Husky Energy"}]
["Formation",{"$f":"Database!C17","v":"Canol"},{"$nulls":7},"List of Ro Values in Increasing Order:"]
["Location:",{"$f":"Database!B17","v":"Canada"},{"$nulls":7},{"$f":"Database!G17","v":{"v":0.8682,"d":"0.87"}},{"$f":"Database!H17","v":{"v":0.9032,"d":"0.90"}},{"$f":"Database!I17","v":{"v":0.923,"d":"0.92"}},{"$f":"Database!J17","v":{"v":0.926,"d":"0.93"}},{"$f":"Database!K17","v":{"v":0.9705,"d":"0.97"}},{"$f":"Database!L17","v":{"v":0.9899,"d":"0.99"}},{"$f":"Database!M17","v":{"v":0.9982,"d":"1.00"}},{"$f":"Database!N17","v":{"v":1.006,"d":"1.01"}},{"$f":"Database!O17","v":{"v":1.012,"d":"1.01"}},{"$f":"Database!P17","v":{"v":1.014,"d":"1.01"}}]
["Depth (m):",{"$f":"Database!D17","v":1284.45},null,null,"Well:",{"$f":"Database!E17","v":"Slater River H-64"},{"$nulls":3},{"$f":"Database!Q17","v":{"v":1.036,"d":"1.04"}},{"$f":"Database!R17","v":{"v":1.039,"d":"1.04"}},{"$f":"Database!S17","v":{"v":1.086,"d":"1.09"}},{"$f":"Database!T17","v":{"v":1.102,"d":"1.10"}},{"$f":"Database!U17","v":{"v":1.147,"d":"1.15"}}]
["Min Value",null,{"$f":"MIN(J6:S10)","v":{"v":0.8682,"d":"0.87"}},null,"The mean Ro,ran of the primary kerogen is 1.0% based on 15 measurements. The organic matter is mature and at the exact boundary between the middle and upper stages of the oil window."]
["Max Value",null,{"$f":"MAX(J6:S10)","v":{"v":1.147,"d":"1.15"}}]
["Mean Value",null,{"$f":"AVERAGE(J6:S10)","v":{"v":1.0013999999999998,"d":"1.00"}}]
["# of Measurements",null,{"$f":"COUNT(J6:S10)","v":15},{"$nulls":11},"    10 micrometers"]
["Strd Deviation",null,{"$f":"STDEV(J6:S10)","v":{"v":0.0763893130146956,"d":"0.08"}}]